BEGIN:VCALENDAR
VERSION:2.0
PRODID:-//hamiltoncountygop - ECPv6.15.20//NONSGML v1.0//EN
CALSCALE:GREGORIAN
METHOD:PUBLISH
X-ORIGINAL-URL:https://hamiltoncountygop.org
X-WR-CALDESC:Events for hamiltoncountygop
REFRESH-INTERVAL;VALUE=DURATION:PT1H
X-Robots-Tag:noindex
X-PUBLISHED-TTL:PT1H
BEGIN:VTIMEZONE
TZID:UTC
BEGIN:STANDARD
TZOFFSETFROM:+0000
TZOFFSETTO:+0000
TZNAME:UTC
DTSTART:20240101T000000
END:STANDARD
END:VTIMEZONE
BEGIN:VEVENT
DTSTART;TZID=UTC:20251030T180000
DTEND;TZID=UTC:20251030T200000
DTSTAMP:20260424T094234
CREATED:20251027T211539Z
LAST-MODIFIED:20251027T211539Z
UID:10000117-1761847200-1761854400@hamiltoncountygop.org
SUMMARY:GRAND OPENING TOUR FISHERS COMMUNITY CENTER
DESCRIPTION:Come See the New Fishers Community Center
URL:https://hamiltoncountygop.org/event/grand-opening-tour-fishers-community-center/
LOCATION:Fishers Community Center\, 11400 Johnson Way\, Fishers\, IN\, United States
CATEGORIES:HAMCO
ATTACH;FMTTYPE=image/png:https://hamiltoncountygop.org/wp-content/uploads/2025/10/FGOP-2-e1761585217671.png
END:VEVENT
END:VCALENDAR