BEGIN:VCALENDAR
VERSION:2.0
PRODID:-//hamiltoncountygop - ECPv6.15.20//NONSGML v1.0//EN
CALSCALE:GREGORIAN
METHOD:PUBLISH
X-ORIGINAL-URL:https://hamiltoncountygop.org
X-WR-CALDESC:Events for hamiltoncountygop
REFRESH-INTERVAL;VALUE=DURATION:PT1H
X-Robots-Tag:noindex
X-PUBLISHED-TTL:PT1H
BEGIN:VTIMEZONE
TZID:America/Indiana/Indianapolis
BEGIN:DAYLIGHT
TZOFFSETFROM:-0500
TZOFFSETTO:-0400
TZNAME:EDT
DTSTART:20250309T070000
END:DAYLIGHT
BEGIN:STANDARD
TZOFFSETFROM:-0400
TZOFFSETTO:-0500
TZNAME:EST
DTSTART:20251102T060000
END:STANDARD
BEGIN:DAYLIGHT
TZOFFSETFROM:-0500
TZOFFSETTO:-0400
TZNAME:EDT
DTSTART:20260308T070000
END:DAYLIGHT
BEGIN:STANDARD
TZOFFSETFROM:-0400
TZOFFSETTO:-0500
TZNAME:EST
DTSTART:20261101T060000
END:STANDARD
BEGIN:DAYLIGHT
TZOFFSETFROM:-0500
TZOFFSETTO:-0400
TZNAME:EDT
DTSTART:20270314T070000
END:DAYLIGHT
BEGIN:STANDARD
TZOFFSETFROM:-0400
TZOFFSETTO:-0500
TZNAME:EST
DTSTART:20271107T060000
END:STANDARD
END:VTIMEZONE
BEGIN:VTIMEZONE
TZID:UTC
BEGIN:STANDARD
TZOFFSETFROM:+0000
TZOFFSETTO:+0000
TZNAME:UTC
DTSTART:20240101T000000
END:STANDARD
END:VTIMEZONE
BEGIN:VEVENT
DTSTART;TZID=America/Indiana/Indianapolis:20260414T163000
DTEND;TZID=America/Indiana/Indianapolis:20260414T180000
DTSTAMP:20260423T153206
CREATED:20260406T162652Z
LAST-MODIFIED:20260406T162652Z
UID:10000201-1776184200-1776189600@hamiltoncountygop.org
SUMMARY:Noblesville GOP Club Meeting
DESCRIPTION:Join the Noblesville GOP Club for a Legislative Update featuring State Senator Scott Baldwin and State Representative Alaina Shonkwiler.  The event will be held Tuesday\, April 14\, 4:30-6:00pm at Bier Brewery in Noblesville. \nHope to see you there!
URL:https://hamiltoncountygop.org/event/noblesville-gop-club-meeting/
LOCATION:Bier Brewery\, 1618 S 10th St\, Noblesville\, IN\, 46060\, United States
CATEGORIES:HAMCO
END:VEVENT
BEGIN:VEVENT
DTSTART;TZID=UTC:20260311T180000
DTEND;TZID=UTC:20260311T200000
DTSTAMP:20260423T153206
CREATED:20260224T034913Z
LAST-MODIFIED:20260226T034348Z
UID:10000181-1773252000-1773259200@hamiltoncountygop.org
SUMMARY:Hamilton County Republican Women Meeting
DESCRIPTION:Join the Hamilton County Republican Women’s Club for a Legislative Update meeting featuring State Representatives from Hamilton County.  The meeting is on March 11 from 6:00-8:00PM at Bier Brewery in Noblesville. \nAppetizers will be provided.  Cash bar available. \nCost: $5 or free for members and sponsors \nRSVP: hamcogopwomen@gmail.com
URL:https://hamiltoncountygop.org/event/hamilton-county-republican-women-meeting/
LOCATION:Bier Brewery\, 1618 S 10th St\, Noblesville\, IN\, 46060\, United States
CATEGORIES:HAMCO
ORGANIZER;CN="Hamilton County GOP Women":MAILTO:hamcogopwomen@gmail.com
END:VEVENT
BEGIN:VEVENT
DTSTART;TZID=UTC:20251203T170000
DTEND;TZID=UTC:20251203T183000
DTSTAMP:20260423T153206
CREATED:20251111T000725Z
LAST-MODIFIED:20251111T000725Z
UID:10000125-1764781200-1764786600@hamiltoncountygop.org
SUMMARY:NOBLESVILLE GOP DECEMBER SOCIAL
DESCRIPTION:Come On Out and Meet Your Friends! \nHow better to pass a middle of the week December Wednesday Evening? \nWe’ll have Appetizers and Drinks to make it worth your trip. \nHo Ho Ho !!!
URL:https://hamiltoncountygop.org/event/noblesville-gop-december-social/
LOCATION:Bier Brewery\, 1618 S 10th St\, Noblesville\, IN\, 46060\, United States
CATEGORIES:HAMCO
ATTACH;FMTTYPE=image/jpeg:https://hamiltoncountygop.org/wp-content/uploads/2025/11/Noblesville-GOP-Social-10.2.25-1-e1762801569812.jpg
END:VEVENT
BEGIN:VEVENT
DTSTART;TZID=UTC:20250610T170000
DTEND;TZID=UTC:20250610T183000
DTSTAMP:20260423T153206
CREATED:20250530T183650Z
LAST-MODIFIED:20250530T184106Z
UID:10000042-1749574800-1749580200@hamiltoncountygop.org
SUMMARY:Noblesville GOP Social
DESCRIPTION:https://hamiltoncountygop.org/wp-content/uploads/2025/05/Noblesville-GOP-Social-6.10.25-1.png \n 
URL:https://hamiltoncountygop.org/event/noblesville-gop-social/
LOCATION:Bier Brewery\, 1618 S 10th St\, Noblesville\, IN\, 46060\, United States
ATTACH;FMTTYPE=image/png:https://hamiltoncountygop.org/wp-content/uploads/2025/05/Noblesville-GOP-Social-6.10.25-e1748615656494.png
END:VEVENT
BEGIN:VEVENT
DTSTART;TZID=UTC:20250312T170000
DTEND;TZID=UTC:20250312T183000
DTSTAMP:20260423T153206
CREATED:20250219T224746Z
LAST-MODIFIED:20250306T213735Z
UID:10000006-1741798800-1741804200@hamiltoncountygop.org
SUMMARY:Noblesville GOP Mid-Session Legislative Update
DESCRIPTION:Come and Learn what our legislators are up to.\nYou elected them.  You need to know. \nSen Baldwin and Rep Shonkwiler! \nBeer and Pizza! \nWinter is Ending!
URL:https://hamiltoncountygop.org/event/hamco-2/
LOCATION:Bier Brewery\, 1618 S 10th St\, Noblesville\, IN\, 46060\, United States
CATEGORIES:HAMCO
ATTACH;FMTTYPE=image/jpeg:https://hamiltoncountygop.org/wp-content/uploads/2025/02/Noblesville-GOP-Flyer_LEG._UPDATE_EVENT_Graphic.jpg
END:VEVENT
END:VCALENDAR