BEGIN:VCALENDAR
VERSION:2.0
PRODID:-//hamiltoncountygop - ECPv6.15.20//NONSGML v1.0//EN
CALSCALE:GREGORIAN
METHOD:PUBLISH
X-WR-CALNAME:hamiltoncountygop
X-ORIGINAL-URL:https://hamiltoncountygop.org
X-WR-CALDESC:Events for hamiltoncountygop
REFRESH-INTERVAL;VALUE=DURATION:PT1H
X-Robots-Tag:noindex
X-PUBLISHED-TTL:PT1H
BEGIN:VTIMEZONE
TZID:UTC
BEGIN:STANDARD
TZOFFSETFROM:+0000
TZOFFSETTO:+0000
TZNAME:UTC
DTSTART:20240101T000000
END:STANDARD
END:VTIMEZONE
BEGIN:VEVENT
DTSTART;TZID=UTC:20250603T170000
DTEND;TZID=UTC:20250603T190000
DTSTAMP:20260424T022559
CREATED:20250527T204134Z
LAST-MODIFIED:20250530T193941Z
UID:10000039-1748970000-1748977200@hamiltoncountygop.org
SUMMARY:Reception for Paul Sweeney for Judge
DESCRIPTION: 
URL:https://hamiltoncountygop.org/event/reception-for-paul-sweeney-for-judge/
LOCATION:The Skyline Club\, OneAmerican Square 36th Floor\, Indianapolis\, IN\, 46282\, United States
CATEGORIES:HAMCO
ATTACH;FMTTYPE=image/jpeg:https://hamiltoncountygop.org/wp-content/uploads/2025/05/P.Sweeney_June3_INVITE-2_page-0001-1.jpg
END:VEVENT
END:VCALENDAR