BEGIN:VCALENDAR
VERSION:2.0
PRODID:-//hamiltoncountygop - ECPv6.15.20//NONSGML v1.0//EN
CALSCALE:GREGORIAN
METHOD:PUBLISH
X-WR-CALNAME:hamiltoncountygop
X-ORIGINAL-URL:https://hamiltoncountygop.org
X-WR-CALDESC:Events for hamiltoncountygop
REFRESH-INTERVAL;VALUE=DURATION:PT1H
X-Robots-Tag:noindex
X-PUBLISHED-TTL:PT1H
BEGIN:VTIMEZONE
TZID:UTC
BEGIN:STANDARD
TZOFFSETFROM:+0000
TZOFFSETTO:+0000
TZNAME:UTC
DTSTART:20240101T000000
END:STANDARD
END:VTIMEZONE
BEGIN:VEVENT
DTSTART;TZID=UTC:20260311T170000
DTEND;TZID=UTC:20260311T193000
DTSTAMP:20260425T121107
CREATED:20260224T030327Z
LAST-MODIFIED:20260224T030328Z
UID:10000179-1773248400-1773257400@hamiltoncountygop.org
SUMMARY:Josh Kocher for Prosecutor Fundraiser
DESCRIPTION:You’re invited to An Evening with Hamilton County Prosecutor Josh Kocher on Wednesday\, March 11 from 5:00-7:00PM at Salt\, 10158 Brooks School Road\, Fishers. \nRegister to Attend: EveningWithJoshKocher.eventbrite.com
URL:https://hamiltoncountygop.org/event/josh-kocher-for-prosecutor-fundraiser/
LOCATION:Salt\, 10158 Brooks School Road\, Fishers\, IN\, 46037
CATEGORIES:HAMCO
END:VEVENT
BEGIN:VEVENT
DTSTART;TZID=UTC:20250617T173000
DTEND;TZID=UTC:20250617T193000
DTSTAMP:20260425T121107
CREATED:20250527T200500Z
LAST-MODIFIED:20250528T234253Z
UID:10000037-1750181400-1750188600@hamiltoncountygop.org
SUMMARY:Fundraiser for Josh Kocher for Prosecutor
DESCRIPTION:
URL:https://hamiltoncountygop.org/event/fundraiser-for-josh-kocher-for-prosecutor/
LOCATION:Matteo’s Ristorante Italiano\, 40 N. 9th St.\, Noblesville\, IN\, 46060\, United States
CATEGORIES:HAMCO
ATTACH;FMTTYPE=image/png:https://hamiltoncountygop.org/wp-content/uploads/2025/05/Evening-with-Kocher.-Invite-2.png
END:VEVENT
BEGIN:VEVENT
DTSTART;TZID=UTC:20250114T163000
DTEND;TZID=UTC:20250114T193000
DTSTAMP:20260425T121107
CREATED:20250108T220311Z
LAST-MODIFIED:20250306T213812Z
UID:10000002-1736872200-1736883000@hamiltoncountygop.org
SUMMARY:Josh Kocher Campaign Kickoff
DESCRIPTION:Sponsorships\nGOLD $5\,000 | SILVER $2\,500 | BRONZE $1\,000 | ATTEND $100\nTICKETS AVAILABLE HERE\nPaid for by the Committee To Elect Kocher For Prosecutor PO Box 83\, Noblesville\, IN 46061
URL:https://hamiltoncountygop.org/event/hamco-17/
LOCATION:Sangrita Grill + Cantina\, 11547 Yard St. #810\, Fishers\, IN\, 46037\, United States
CATEGORIES:HAMCO
ATTACH;FMTTYPE=image/jpeg:https://hamiltoncountygop.org/wp-content/uploads/2025/01/Kocher_Campaign-Invite_Web2.jpg
END:VEVENT
END:VCALENDAR