BEGIN:VCALENDAR
VERSION:2.0
PRODID:-//hamiltoncountygop - ECPv6.15.20//NONSGML v1.0//EN
CALSCALE:GREGORIAN
METHOD:PUBLISH
X-WR-CALNAME:hamiltoncountygop
X-ORIGINAL-URL:https://hamiltoncountygop.org
X-WR-CALDESC:Events for hamiltoncountygop
REFRESH-INTERVAL;VALUE=DURATION:PT1H
X-Robots-Tag:noindex
X-PUBLISHED-TTL:PT1H
BEGIN:VTIMEZONE
TZID:UTC
BEGIN:STANDARD
TZOFFSETFROM:+0000
TZOFFSETTO:+0000
TZNAME:UTC
DTSTART:20230101T000000
END:STANDARD
END:VTIMEZONE
BEGIN:VEVENT
DTSTART;TZID=UTC:20250719T100000
DTEND;TZID=UTC:20250719T210000
DTSTAMP:20260425T095030
CREATED:20250716T180501Z
LAST-MODIFIED:20250716T180501Z
UID:10000064-1752919200-1752958800@hamiltoncountygop.org
SUMMARY:4-H Fair
DESCRIPTION:
URL:https://hamiltoncountygop.org/event/4-h-fair/2025-07-19/
LOCATION:4-H Fairgrounds\, 2003 Pleasant St.\, Noblesville\, IN\, 46060\, United States
CATEGORIES:HAMCO
ATTACH;FMTTYPE=image/jpeg:https://hamiltoncountygop.org/wp-content/uploads/2025/07/4H-flyer-2025-1.jpg
ORGANIZER;CN="Hamilton County GOP":MAILTO:hcrp@hamiltoncountygop.org
END:VEVENT
BEGIN:VEVENT
DTSTART;TZID=UTC:20250718T100000
DTEND;TZID=UTC:20250718T210000
DTSTAMP:20260425T095030
CREATED:20250716T180501Z
LAST-MODIFIED:20250716T180501Z
UID:10000063-1752832800-1752872400@hamiltoncountygop.org
SUMMARY:4-H Fair
DESCRIPTION:
URL:https://hamiltoncountygop.org/event/4-h-fair/2025-07-18/
LOCATION:4-H Fairgrounds\, 2003 Pleasant St.\, Noblesville\, IN\, 46060\, United States
CATEGORIES:HAMCO
ATTACH;FMTTYPE=image/jpeg:https://hamiltoncountygop.org/wp-content/uploads/2025/07/4H-flyer-2025-1.jpg
ORGANIZER;CN="Hamilton County GOP":MAILTO:hcrp@hamiltoncountygop.org
END:VEVENT
BEGIN:VEVENT
DTSTART;TZID=UTC:20250716T073000
DTEND;TZID=UTC:20250716T090000
DTSTAMP:20260425T095030
CREATED:20250708T192806Z
LAST-MODIFIED:20250708T192807Z
UID:10000060-1752651000-1752656400@hamiltoncountygop.org
SUMMARY:July Chairman's Breakfast
DESCRIPTION:
URL:https://hamiltoncountygop.org/event/july-chairmans-breakfast/
LOCATION:Peterson’s\, 7690 E. 96th Street\, Fishers\, 46038\, United States
CATEGORIES:HAMCO
ATTACH;FMTTYPE=image/jpeg:https://hamiltoncountygop.org/wp-content/uploads/2025/07/Adobe-Express-file-2.jpg
ORGANIZER;CN="Hamilton County GOP":MAILTO:hcrp@hamiltoncountygop.org
END:VEVENT
BEGIN:VEVENT
DTSTART;TZID=UTC:20250704T120000
DTEND;TZID=UTC:20250704T220000
DTSTAMP:20260425T095030
CREATED:20250627T183821Z
LAST-MODIFIED:20250627T184248Z
UID:10000056-1751630400-1751666400@hamiltoncountygop.org
SUMMARY:CarmelFest
DESCRIPTION:
URL:https://hamiltoncountygop.org/event/carmelfest/2025-07-04/
LOCATION:Civic Square Carmel
CATEGORIES:HAMCO
ATTACH;FMTTYPE=image/png:https://hamiltoncountygop.org/wp-content/uploads/2025/06/CarmelFest-street-fair-flyer-2025-5.png
ORGANIZER;CN="Hamilton County GOP":MAILTO:hcrp@hamiltoncountygop.org
END:VEVENT
BEGIN:VEVENT
DTSTART;TZID=UTC:20250703T130000
DTEND;TZID=UTC:20250703T220000
DTSTAMP:20260425T095030
CREATED:20250627T183821Z
LAST-MODIFIED:20250627T184248Z
UID:10000055-1751547600-1751580000@hamiltoncountygop.org
SUMMARY:CarmelFest
DESCRIPTION:
URL:https://hamiltoncountygop.org/event/carmelfest/2025-07-03/
LOCATION:Civic Square Carmel
CATEGORIES:HAMCO
ATTACH;FMTTYPE=image/png:https://hamiltoncountygop.org/wp-content/uploads/2025/06/CarmelFest-street-fair-flyer-2025-5.png
ORGANIZER;CN="Hamilton County GOP":MAILTO:hcrp@hamiltoncountygop.org
END:VEVENT
BEGIN:VEVENT
DTSTART;TZID=UTC:20250618T073000
DTEND;TZID=UTC:20250618T090000
DTSTAMP:20260425T095030
CREATED:20250220T022756Z
LAST-MODIFIED:20250530T211743Z
UID:10000012-1750231800-1750237200@hamiltoncountygop.org
SUMMARY:June Chairman's Breakfast - Westfield
DESCRIPTION:
URL:https://hamiltoncountygop.org/event/hamco-6/
LOCATION:TBD
CATEGORIES:HAMCO
ATTACH;FMTTYPE=image/png:https://hamiltoncountygop.org/wp-content/uploads/2025/02/June-2025-Chairmans-Breakfast-e1748625322625.png
ORGANIZER;CN="Hamilton County GOP":MAILTO:hcrp@hamiltoncountygop.org
END:VEVENT
BEGIN:VEVENT
DTSTART;TZID=UTC:20250521T073000
DTEND;TZID=UTC:20250521T090000
DTSTAMP:20260425T095030
CREATED:20250220T020934Z
LAST-MODIFIED:20250306T213638Z
UID:10000011-1747812600-1747818000@hamiltoncountygop.org
SUMMARY:May Chairman's Breakfast - Noblesville
DESCRIPTION:Let’s get together and start the day!
URL:https://hamiltoncountygop.org/event/hamco-7/
LOCATION:TBD
CATEGORIES:HAMCO
ATTACH;FMTTYPE=image/jpeg:https://hamiltoncountygop.org/wp-content/uploads/2025/01/CHAIRMANS_BREAKFAST_EVENT_WEB.jpg
ORGANIZER;CN="Hamilton County GOP":MAILTO:hcrp@hamiltoncountygop.org
END:VEVENT
BEGIN:VEVENT
DTSTART;TZID=UTC:20250506T170000
DTEND;TZID=UTC:20250506T210000
DTSTAMP:20260425T095030
CREATED:20250220T014838Z
LAST-MODIFIED:20250410T185740Z
UID:10000010-1746550800-1746565200@hamiltoncountygop.org
SUMMARY:LINCOLN DAY DINNER
DESCRIPTION:[vc_row][vc_column][vc_column_text] \nVIP RECEPTION 5:00pm \n(with Photo Opportunity) \nDINNER REGISTRATION 5:30pm\nDINNER 6:30pm \n[/vc_column_text]\n	\n	\n			\n\n\n\n	\n	\n			\n\n\n\n	\n	\n			\n\n\n[/vc_column][/vc_row]
URL:https://hamiltoncountygop.org/event/lincolndaydinner/
LOCATION:Embassy Suites Conference Center\, 13700 Conference Center Drive South\, Noblesville\, 46060\, United States
CATEGORIES:HAMCO
ATTACH;FMTTYPE=image/jpeg:https://hamiltoncountygop.org/wp-content/uploads/2025/02/HamCO_Lincoln-Day_event_2025_WEB.jpg
ORGANIZER;CN="Hamilton County GOP":MAILTO:hcrp@hamiltoncountygop.org
END:VEVENT
BEGIN:VEVENT
DTSTART;TZID=UTC:20250416T073000
DTEND;TZID=UTC:20250416T090000
DTSTAMP:20260425T095030
CREATED:20250327T221244Z
LAST-MODIFIED:20250327T221245Z
UID:10000025-1744788600-1744794000@hamiltoncountygop.org
SUMMARY:Hamilton County Chairman's Breakfast
DESCRIPTION:Guest Speakers\nCarmel City Council Members
URL:https://hamiltoncountygop.org/event/hamilton-county-chairmans-breakfast/
LOCATION:Bar Louie – Carmel\, 1111 W Main Street Suite 140\, Carmel\, IN\, 46032\, United States
CATEGORIES:HAMCO
ATTACH;FMTTYPE=image/jpeg:https://hamiltoncountygop.org/wp-content/uploads/2025/03/April-2025-Chairmans-Breakfast_WEB.jpg
ORGANIZER;CN="Hamilton County GOP":MAILTO:hcrp@hamiltoncountygop.org
END:VEVENT
BEGIN:VEVENT
DTSTART;TZID=UTC:20250325T180000
DTEND;TZID=UTC:20250325T200000
DTSTAMP:20260425T095030
CREATED:20250314T180322Z
LAST-MODIFIED:20250314T180322Z
UID:10000020-1742925600-1742932800@hamiltoncountygop.org
SUMMARY:Hamilton County Republican Town Hall Event
DESCRIPTION:
URL:https://hamiltoncountygop.org/event/hamilton-county-republican-town-hall-event/
LOCATION:Life Church\, 2200 Sheridan Rd\, Noblesville\, IN\, 46062\, United States
CATEGORIES:HAMCO
ATTACH;FMTTYPE=image/jpeg:https://hamiltoncountygop.org/wp-content/uploads/2025/03/Hamilton_County_GOP_TOWNHALLL_WEB.jpg
ORGANIZER;CN="Hamilton County GOP":MAILTO:hcrp@hamiltoncountygop.org
END:VEVENT
BEGIN:VEVENT
DTSTART;TZID=UTC:20250319T073000
DTEND;TZID=UTC:20250319T090000
DTSTAMP:20260425T095030
CREATED:20250219T235420Z
LAST-MODIFIED:20250306T213703Z
UID:10000007-1742369400-1742374800@hamiltoncountygop.org
SUMMARY:March Chairman's Breakfast - Fisher's
DESCRIPTION:Let’s get together and start the day! \nSpecial Guests: Fishers City Council
URL:https://hamiltoncountygop.org/event/hamco/
LOCATION:Peterson’s\, 7690 E. 96th Street\, Fishers\, 46038\, United States
CATEGORIES:HAMCO
ATTACH;FMTTYPE=image/jpeg:https://hamiltoncountygop.org/wp-content/uploads/2025/03/Chairmans-Breakfast_3.19.jpg
ORGANIZER;CN="Hamilton County GOP":MAILTO:hcrp@hamiltoncountygop.org
END:VEVENT
BEGIN:VEVENT
DTSTART;TZID=UTC:20250315T190000
DTEND;TZID=UTC:20250315T210000
DTSTAMP:20260425T095030
CREATED:20250306T211957Z
LAST-MODIFIED:20250306T213717Z
UID:10000017-1742065200-1742072400@hamiltoncountygop.org
SUMMARY:Music Bingo Night - Support Dustin Dixon for Sheriff!
DESCRIPTION:
URL:https://hamiltoncountygop.org/event/hamco-12/
LOCATION:Fraternal Order of Police\, 7201 East 196th Street\, Noblesville\, IN\, 46062\, United States
CATEGORIES:HAMCO
ATTACH;FMTTYPE=image/jpeg:https://hamiltoncountygop.org/wp-content/uploads/2025/03/Dustin_Dixon_Sheriff_Bingo_Night.jpg
ORGANIZER;CN="Hamilton County GOP":MAILTO:hcrp@hamiltoncountygop.org
END:VEVENT
BEGIN:VEVENT
DTSTART;TZID=UTC:20250312T180000
DTEND;TZID=UTC:20250312T200000
DTSTAMP:20260425T095030
CREATED:20250306T211215Z
LAST-MODIFIED:20250306T213726Z
UID:10000016-1741802400-1741809600@hamiltoncountygop.org
SUMMARY:Hamilton County Republican Women - March Meeting
DESCRIPTION:Join Us in celebrating International Women’s Day with Special Guest\, Carmel Mayor Sue Finkam! She will share updates on the city of Carmel and discuss the unique challenges women face in leadership roles.
URL:https://hamiltoncountygop.org/event/hamco-13/
LOCATION:Carmel Clay Republican Club GOP Headquarters\, 452 E. Carmel Drive\, Carmel\, 46032\, United States
CATEGORIES:HAMCO
ATTACH;FMTTYPE=image/jpeg:https://hamiltoncountygop.org/wp-content/uploads/2025/03/HamCo_REPUB_WOMEN3.12.jpg
ORGANIZER;CN="Hamilton County GOP":MAILTO:hcrp@hamiltoncountygop.org
END:VEVENT
BEGIN:VEVENT
DTSTART;TZID=UTC:20250115T073000
DTEND;TZID=UTC:20250115T090000
DTSTAMP:20260425T095030
CREATED:20250108T223128Z
LAST-MODIFIED:20250306T213804Z
UID:10000004-1736926200-1736931600@hamiltoncountygop.org
SUMMARY:First Chairman's Breakfast of 2025
DESCRIPTION:Join us for the first Chairman’s Breakfast of 2025! \nWe will meet at Matteo’s Ristorante Italiano on January 15 at 7:30am. \nOur guest speakers will be members of the Noblesville Common Council\, who will discuss what they hope to accomplish in the next term. \nReservations must be made by 5:00 PM on Monday\, January 13. \nCost is $35/person or free for Chairman’s Breakfast members. \nRegister HERE.
URL:https://hamiltoncountygop.org/event/hamco-16/
LOCATION:Matteo’s Ristorante Italiano\, 40 N. 9th St.\, Noblesville\, IN\, 46060\, United States
CATEGORIES:HAMCO
ATTACH;FMTTYPE=image/jpeg:https://hamiltoncountygop.org/wp-content/uploads/2025/01/CHAIRMANS_BREAKFAST_EVENT_WEB.jpg
ORGANIZER;CN="Hamilton County GOP":MAILTO:hcrp@hamiltoncountygop.org
END:VEVENT
BEGIN:VEVENT
DTSTART;TZID=UTC:20241212T173000
DTEND;TZID=UTC:20241212T203000
DTSTAMP:20260425T095030
CREATED:20241210T030521Z
LAST-MODIFIED:20250306T213820Z
UID:10000001-1734024600-1734035400@hamiltoncountygop.org
SUMMARY:HamCo Holiday Party
DESCRIPTION:IT’S TIME TO PARTY!\nThe year is ending\, and it was a Heck of a Year!\nCome on Out! 5:30 to 8:30 at the Lucas Private Estate.\nFREE To All!\nRegister HERE
URL:https://hamiltoncountygop.org/event/hamco-18/
LOCATION:Lucas Private Estate\, 11453 Ditch Road\, Carmel\, IN\, 46032\, United States
CATEGORIES:HAMCO
ATTACH;FMTTYPE=image/jpeg:https://hamiltoncountygop.org/wp-content/uploads/2024/12/HamCo_Holiday_Party_Promo_2025_EVENTBRIGHT.jpg
ORGANIZER;CN="Hamilton County GOP":MAILTO:hcrp@hamiltoncountygop.org
END:VEVENT
END:VCALENDAR