BEGIN:VCALENDAR
VERSION:2.0
PRODID:-//hamiltoncountygop - ECPv6.15.20//NONSGML v1.0//EN
CALSCALE:GREGORIAN
METHOD:PUBLISH
X-ORIGINAL-URL:https://hamiltoncountygop.org
X-WR-CALDESC:Events for hamiltoncountygop
REFRESH-INTERVAL;VALUE=DURATION:PT1H
X-Robots-Tag:noindex
X-PUBLISHED-TTL:PT1H
BEGIN:VTIMEZONE
TZID:UTC
BEGIN:STANDARD
TZOFFSETFROM:+0000
TZOFFSETTO:+0000
TZNAME:UTC
DTSTART:20240101T000000
END:STANDARD
END:VTIMEZONE
BEGIN:VEVENT
DTSTART;TZID=UTC:20251102T140000
DTEND;TZID=UTC:20251102T160000
DTSTAMP:20260424T131421
CREATED:20251029T221345Z
LAST-MODIFIED:20251029T221605Z
UID:10000120-1762092000-1762099200@hamiltoncountygop.org
SUMMARY:Team Jensen Fall Fest
DESCRIPTION:
URL:https://hamiltoncountygop.org/event/team-jensen-fall-fest/
LOCATION:Mustard Seed Gardens\, 77 Metsker Lane\, Noblesville\, IN\, 46062
CATEGORIES:HAMCO
ATTACH;FMTTYPE=image/png:https://hamiltoncountygop.org/wp-content/uploads/2025/10/IMG_0665-e1761761742607.png
END:VEVENT
END:VCALENDAR