BEGIN:VCALENDAR
VERSION:2.0
PRODID:-//hamiltoncountygop - ECPv6.15.20//NONSGML v1.0//EN
CALSCALE:GREGORIAN
METHOD:PUBLISH
X-ORIGINAL-URL:https://hamiltoncountygop.org
X-WR-CALDESC:Events for hamiltoncountygop
REFRESH-INTERVAL;VALUE=DURATION:PT1H
X-Robots-Tag:noindex
X-PUBLISHED-TTL:PT1H
BEGIN:VTIMEZONE
TZID:UTC
BEGIN:STANDARD
TZOFFSETFROM:+0000
TZOFFSETTO:+0000
TZNAME:UTC
DTSTART:20240101T000000
END:STANDARD
END:VTIMEZONE
BEGIN:VEVENT
DTSTART;TZID=UTC:20251117T180000
DTEND;TZID=UTC:20251117T200000
DTSTAMP:20260425T211436
CREATED:20251027T213056Z
LAST-MODIFIED:20251027T213056Z
UID:10000118-1763402400-1763409600@hamiltoncountygop.org
SUMMARY:NORTHERN HAMILTON COUNTY GOP CLUB MEETING
DESCRIPTION:More Details to Come
URL:https://hamiltoncountygop.org/event/northern-hamilton-county-gop-club-meeting-2/
LOCATION:Sheridan Public Library\, 103 W 1st Street\, Sheridan\, IN\, United States
CATEGORIES:HAMCO
ATTACH;FMTTYPE=image/jpeg:https://hamiltoncountygop.org/wp-content/uploads/2025/10/Northern-HamCo-GOP-Mtg-11.17.25.jpg
END:VEVENT
END:VCALENDAR