BEGIN:VCALENDAR
VERSION:2.0
PRODID:-//hamiltoncountygop - ECPv6.15.20//NONSGML v1.0//EN
CALSCALE:GREGORIAN
METHOD:PUBLISH
X-WR-CALNAME:hamiltoncountygop
X-ORIGINAL-URL:https://hamiltoncountygop.org
X-WR-CALDESC:Events for hamiltoncountygop
REFRESH-INTERVAL;VALUE=DURATION:PT1H
X-Robots-Tag:noindex
X-PUBLISHED-TTL:PT1H
BEGIN:VTIMEZONE
TZID:UTC
BEGIN:STANDARD
TZOFFSETFROM:+0000
TZOFFSETTO:+0000
TZNAME:UTC
DTSTART:20250101T000000
END:STANDARD
END:VTIMEZONE
BEGIN:VEVENT
DTSTART;TZID=UTC:20260311T180000
DTEND;TZID=UTC:20260311T200000
DTSTAMP:20260423T152818
CREATED:20260224T034913Z
LAST-MODIFIED:20260226T034348Z
UID:10000181-1773252000-1773259200@hamiltoncountygop.org
SUMMARY:Hamilton County Republican Women Meeting
DESCRIPTION:Join the Hamilton County Republican Women’s Club for a Legislative Update meeting featuring State Representatives from Hamilton County.  The meeting is on March 11 from 6:00-8:00PM at Bier Brewery in Noblesville. \nAppetizers will be provided.  Cash bar available. \nCost: $5 or free for members and sponsors \nRSVP: hamcogopwomen@gmail.com
URL:https://hamiltoncountygop.org/event/hamilton-county-republican-women-meeting/
LOCATION:Bier Brewery\, 1618 S 10th St\, Noblesville\, IN\, 46060\, United States
CATEGORIES:HAMCO
ORGANIZER;CN="Hamilton County GOP Women":MAILTO:hamcogopwomen@gmail.com
END:VEVENT
BEGIN:VEVENT
DTSTART;TZID=UTC:20260316T170000
DTEND;TZID=UTC:20260316T210000
DTSTAMP:20260423T152818
CREATED:20260128T014202Z
LAST-MODIFIED:20260224T033848Z
UID:10000149-1773680400-1773694800@hamiltoncountygop.org
SUMMARY:Lincoln Day Dinner
DESCRIPTION:Join us at our Annual Lincoln Day Dinner on March 16 at Embassy Suites Conference Center in Noblesville.  Our guest speaker will be Riley Gaines\, a former collegiate swimmer turned national advocate for fairness in women’s sports.  Riley has become one of the most influential young conservative voices in the country. You don’t want to miss it! \nVIP Reception:  5:00 PM  (includes a photo opportunity) \nDinner Registration: 5:30 PM with Dinner at 6:30 PM \nRegister for Lincoln Day Dinner HERE
URL:https://hamiltoncountygop.org/event/lincoln-day-dinner/
LOCATION:Embassy Suites Conference Center\, 13700 Conference Center Drive South\, Noblesville\, 46060\, United States
CATEGORIES:HAMCO
ORGANIZER;CN="Hamilton County GOP":MAILTO:hcrp@hamiltoncountygop.org
END:VEVENT
END:VCALENDAR