BEGIN:VCALENDAR
VERSION:2.0
PRODID:-//hamiltoncountygop - ECPv6.15.20//NONSGML v1.0//EN
CALSCALE:GREGORIAN
METHOD:PUBLISH
X-ORIGINAL-URL:https://hamiltoncountygop.org
X-WR-CALDESC:Events for hamiltoncountygop
REFRESH-INTERVAL;VALUE=DURATION:PT1H
X-Robots-Tag:noindex
X-PUBLISHED-TTL:PT1H
BEGIN:VTIMEZONE
TZID:UTC
BEGIN:STANDARD
TZOFFSETFROM:+0000
TZOFFSETTO:+0000
TZNAME:UTC
DTSTART:20240101T000000
END:STANDARD
END:VTIMEZONE
BEGIN:VEVENT
DTSTART;TZID=UTC:20250925T170000
DTEND;TZID=UTC:20250925T200000
DTSTAMP:20260425T111449
CREATED:20250728T220128Z
LAST-MODIFIED:20250728T220128Z
UID:10000076-1758819600-1758830400@hamiltoncountygop.org
SUMMARY:Reception for Paul Sweeney for Judge
DESCRIPTION:
URL:https://hamiltoncountygop.org/event/reception-for-paul-sweeney-for-judge-2/
LOCATION:Tom and Amy Smith’s\, 1289 W. 136th Street\, Carmel\, IN\, 46032\, United States
CATEGORIES:HAMCO
ATTACH;FMTTYPE=application/pdf:https://hamiltoncountygop.org/wp-content/uploads/2025/07/September-25-Sweeney-for-Judge-Event-at-the-Smith-House-2-1.pdf
END:VEVENT
END:VCALENDAR