BEGIN:VCALENDAR
VERSION:2.0
PRODID:-//hamiltoncountygop - ECPv6.15.20//NONSGML v1.0//EN
CALSCALE:GREGORIAN
METHOD:PUBLISH
X-ORIGINAL-URL:https://hamiltoncountygop.org
X-WR-CALDESC:Events for hamiltoncountygop
REFRESH-INTERVAL;VALUE=DURATION:PT1H
X-Robots-Tag:noindex
X-PUBLISHED-TTL:PT1H
BEGIN:VTIMEZONE
TZID:America/Indiana/Indianapolis
BEGIN:DAYLIGHT
TZOFFSETFROM:-0500
TZOFFSETTO:-0400
TZNAME:EDT
DTSTART:20250309T070000
END:DAYLIGHT
BEGIN:STANDARD
TZOFFSETFROM:-0400
TZOFFSETTO:-0500
TZNAME:EST
DTSTART:20251102T060000
END:STANDARD
BEGIN:DAYLIGHT
TZOFFSETFROM:-0500
TZOFFSETTO:-0400
TZNAME:EDT
DTSTART:20260308T070000
END:DAYLIGHT
BEGIN:STANDARD
TZOFFSETFROM:-0400
TZOFFSETTO:-0500
TZNAME:EST
DTSTART:20261101T060000
END:STANDARD
BEGIN:DAYLIGHT
TZOFFSETFROM:-0500
TZOFFSETTO:-0400
TZNAME:EDT
DTSTART:20270314T070000
END:DAYLIGHT
BEGIN:STANDARD
TZOFFSETFROM:-0400
TZOFFSETTO:-0500
TZNAME:EST
DTSTART:20271107T060000
END:STANDARD
END:VTIMEZONE
BEGIN:VTIMEZONE
TZID:UTC
BEGIN:STANDARD
TZOFFSETFROM:+0000
TZOFFSETTO:+0000
TZNAME:UTC
DTSTART:20240101T000000
END:STANDARD
END:VTIMEZONE
BEGIN:VEVENT
DTSTART;TZID=America/Indiana/Indianapolis:20260409T170000
DTEND;TZID=America/Indiana/Indianapolis:20260409T183000
DTSTAMP:20260424T023515
CREATED:20260323T183437Z
LAST-MODIFIED:20260323T184233Z
UID:10000196-1775754000-1775759400@hamiltoncountygop.org
SUMMARY:JOHN LOWES FOR SHERIFF
DESCRIPTION:John Lowes is running for Hamilton County Sheriff. \nThis party is being hosted by Dan O’Toole\, the CEO of Arrive AI. \nFor questions or to RSVP\, contact:\nCorinne Rhein at 260-388-6050 or\nCorinne@TheRheinConsulting.com \nPlease RSVP by April 6. \nPlease make checks payable to:\nLowes for Sheriff\nPO Box 474\nNoblesville\, IN 46060 \nOr Online\nHttps://Secure.WinRed.com/LowesForSheriff/Donate-Today
URL:https://hamiltoncountygop.org/event/john-lowes-for-sheriff/
LOCATION:Arrive AI\, 9100 Fall View Drive\, Fishers\, IN\, 46040\, United States
CATEGORIES:HAMCO
END:VEVENT
BEGIN:VEVENT
DTSTART;TZID=UTC:20260310T170000
DTEND;TZID=UTC:20260310T190000
DTSTAMP:20260424T023515
CREATED:20260224T022443Z
LAST-MODIFIED:20260226T033703Z
UID:10000175-1773162000-1773169200@hamiltoncountygop.org
SUMMARY:John Lowes for Sheriff Fundraiser
DESCRIPTION:Join John Lowes\, candidate for Hamilton County Sheriff\, at his fundraiser on Tuesday\, March 10 from 5:00-7:00PM at Salt at Carmel City Center. \nHors d’oeuvres and complimentary beverages will be served. \nRSVP to corinne@therheinconsulting.com
URL:https://hamiltoncountygop.org/event/john-lowes-for-sheriff-fundraiser/
LOCATION:Salt Carmel City Center\, 11 City Center Drive\, Carmel\, IN\, 46032\, United States
CATEGORIES:HAMCO
END:VEVENT
BEGIN:VEVENT
DTSTART;TZID=UTC:20260306T170000
DTEND;TZID=UTC:20260306T190000
DTSTAMP:20260424T023515
CREATED:20260224T023028Z
LAST-MODIFIED:20260224T034358Z
UID:10000176-1772816400-1772823600@hamiltoncountygop.org
SUMMARY:John Lowes for Sheriff Fundraiser
DESCRIPTION:You are invited to a fundraiser in support of John Lowes hosted by Sheriff Dennis Quakenbush and Lt. Governor Micah Beckwith.  The event will be held March 6 from 5:00-7:00PM. \nLocation provided upon RSVP. \nRSVP: corinne@therheinconsulting.com
URL:https://hamiltoncountygop.org/event/john-lowes-for-sheriff-fundraiser-2/
LOCATION:IN
CATEGORIES:HAMCO
END:VEVENT
BEGIN:VEVENT
DTSTART;TZID=UTC:20251008T173000
DTEND;TZID=UTC:20251008T190000
DTSTAMP:20260424T023515
CREATED:20250905T224529Z
LAST-MODIFIED:20250905T224529Z
UID:10000089-1759944600-1759950000@hamiltoncountygop.org
SUMMARY:JOHN LOWES FOR SHERIFF OF HAMILTON COUNTY
DESCRIPTION:
URL:https://hamiltoncountygop.org/event/john-lowes-for-sheriff-of-hamilton-county/
LOCATION:Address Provided Upon RSVP
CATEGORIES:HAMCO
ATTACH;FMTTYPE=image/jpeg:https://hamiltoncountygop.org/wp-content/uploads/2025/08/E100825-Yeary-Newsletter-Edition_page-0001-scaled-e1757097840331.jpg
END:VEVENT
BEGIN:VEVENT
DTSTART;TZID=UTC:20250803T170000
DTEND;TZID=UTC:20250803T190000
DTSTAMP:20260424T023515
CREATED:20250728T214012Z
LAST-MODIFIED:20250728T214012Z
UID:10000072-1754240400-1754247600@hamiltoncountygop.org
SUMMARY:Fundraiser for John Lowes for Sheriff
DESCRIPTION:
URL:https://hamiltoncountygop.org/event/fundraiser-for-john-lowes-for-sheriff-2/
LOCATION:VonHolten Residence
CATEGORIES:HAMCO
ATTACH;FMTTYPE=image/jpeg:https://hamiltoncountygop.org/wp-content/uploads/2025/07/E071225-VonHolten-Final_page-0001-scaled.jpg
END:VEVENT
BEGIN:VEVENT
DTSTART;TZID=UTC:20250712T180000
DTEND;TZID=UTC:20250712T220000
DTSTAMP:20260424T023515
CREATED:20250527T201816Z
LAST-MODIFIED:20250527T201816Z
UID:10000038-1752343200-1752357600@hamiltoncountygop.org
SUMMARY:Fundraiser for John Lowes for Sheriff
DESCRIPTION:
URL:https://hamiltoncountygop.org/event/fundraiser-for-john-lowes-for-sheriff/
LOCATION:VonHolten Residence
CATEGORIES:HAMCO
ATTACH;FMTTYPE=image/jpeg:https://hamiltoncountygop.org/wp-content/uploads/2025/05/E071225-VonHolten-1_page-0001.jpg
END:VEVENT
BEGIN:VEVENT
DTSTART;TZID=UTC:20250123T180000
DTEND;TZID=UTC:20250123T200000
DTSTAMP:20260424T023515
CREATED:20250108T222356Z
LAST-MODIFIED:20250306T213754Z
UID:10000003-1737655200-1737662400@hamiltoncountygop.org
SUMMARY:Lowes Knows Safety Sheriff
DESCRIPTION:Time & Location\n\n\nJan 23\, 2025\, 6:00 PM – 8:00 PM \nThe Meeting House\, 2000 N New Market St\, Carmel\, IN 46032\, USA \n\n\n\n\nAbout the event\n\n\n\nJoin us for an evening of community\, support\, and celebration as we officially launch John Lowes for Sheriff. Together\, we can continue the mission to KEEP HAMILTON COUNTY SAFE. Sponsorship Levels \n \nSupport John Lowes’ campaign with one of the following sponsorship opportunities: \n• Gold: $2\,000 \n• Silver: $1\,000 \n• Bronze: $500 \n• Attendee: $100 \n• Young Republican Attendee: $25 \n \nEvery level of support helps strengthen our shared commitment to the safety and well-being of Hamilton County. \n\n\n\nShow Less
URL:https://hamiltoncountygop.org/event/hamco-15/
LOCATION:The Meeting House\, 2000 N New Market Street\, Carmel\, IN\, 46032\, United States
CATEGORIES:HAMCO
ATTACH;FMTTYPE=image/jpeg:https://hamiltoncountygop.org/wp-content/uploads/2025/01/Quakenbush_LOWES_KNOWS_SAFETY-Invite_Web1.jpg
END:VEVENT
END:VCALENDAR