BEGIN:VCALENDAR
VERSION:2.0
PRODID:-//hamiltoncountygop - ECPv6.15.20//NONSGML v1.0//EN
CALSCALE:GREGORIAN
METHOD:PUBLISH
X-ORIGINAL-URL:https://hamiltoncountygop.org
X-WR-CALDESC:Events for hamiltoncountygop
REFRESH-INTERVAL;VALUE=DURATION:PT1H
X-Robots-Tag:noindex
X-PUBLISHED-TTL:PT1H
BEGIN:VTIMEZONE
TZID:UTC
BEGIN:STANDARD
TZOFFSETFROM:+0000
TZOFFSETTO:+0000
TZNAME:UTC
DTSTART:20240101T000000
END:STANDARD
END:VTIMEZONE
BEGIN:VEVENT
DTSTART;TZID=UTC:20251008T180000
DTEND;TZID=UTC:20251008T200000
DTSTAMP:20260425T073428
CREATED:20250930T222139Z
LAST-MODIFIED:20250930T222139Z
UID:10000099-1759946400-1759953600@hamiltoncountygop.org
SUMMARY:HAMILTON COUNTY REPUBLICAN WOMEN OCTOBER MEETING
DESCRIPTION:
URL:https://hamiltoncountygop.org/event/hamilton-county-republican-women-october-meeting/
LOCATION:Gaylor Electric\, 10405 Crosspoint Blvd\, Indianapolis\, IN\, 46256\, United States
CATEGORIES:HAMCO
ATTACH;FMTTYPE=image/png:https://hamiltoncountygop.org/wp-content/uploads/2025/09/October-2025-HCRW-Meeting-e1759256414572.png
ORGANIZER;CN="Hamilton County GOP Women":MAILTO:hamcogopwomen@gmail.com
END:VEVENT
END:VCALENDAR