BEGIN:VCALENDAR
VERSION:2.0
PRODID:-//hamiltoncountygop - ECPv6.15.20//NONSGML v1.0//EN
CALSCALE:GREGORIAN
METHOD:PUBLISH
X-ORIGINAL-URL:https://hamiltoncountygop.org
X-WR-CALDESC:Events for hamiltoncountygop
REFRESH-INTERVAL;VALUE=DURATION:PT1H
X-Robots-Tag:noindex
X-PUBLISHED-TTL:PT1H
BEGIN:VTIMEZONE
TZID:UTC
BEGIN:STANDARD
TZOFFSETFROM:+0000
TZOFFSETTO:+0000
TZNAME:UTC
DTSTART:20250101T000000
END:STANDARD
END:VTIMEZONE
BEGIN:VEVENT
DTSTART;TZID=UTC:20260121T073000
DTEND;TZID=UTC:20260121T090000
DTSTAMP:20260424T070549
CREATED:20260109T233257Z
LAST-MODIFIED:20260109T233257Z
UID:10000139-1768980600-1768986000@hamiltoncountygop.org
SUMMARY:JANUARY CHAIRMAN'S BREAKFAST
DESCRIPTION:WELCOME TO 2026!\nKick off those covers\, and meet your friends for Breakfast! \nWhat a Great Start to the New Year!
URL:https://hamiltoncountygop.org/event/january-chairmans-breakfast/
LOCATION:Matteo’s Ristorante Italiano\, 40 N. 9th St.\, Noblesville\, IN\, 46060\, United States
CATEGORIES:HAMCO
ATTACH;FMTTYPE=image/jpeg:https://hamiltoncountygop.org/wp-content/uploads/2026/01/January-2026-Chairmans-Breakfast-Reduced.jpg
ORGANIZER;CN="Hamilton County GOP":MAILTO:hcrp@hamiltoncountygop.org
END:VEVENT
END:VCALENDAR