BEGIN:VCALENDAR
VERSION:2.0
PRODID:-//hamiltoncountygop - ECPv6.15.20//NONSGML v1.0//EN
CALSCALE:GREGORIAN
METHOD:PUBLISH
X-ORIGINAL-URL:https://hamiltoncountygop.org
X-WR-CALDESC:Events for hamiltoncountygop
REFRESH-INTERVAL;VALUE=DURATION:PT1H
X-Robots-Tag:noindex
X-PUBLISHED-TTL:PT1H
BEGIN:VTIMEZONE
TZID:UTC
BEGIN:STANDARD
TZOFFSETFROM:+0000
TZOFFSETTO:+0000
TZNAME:UTC
DTSTART:20250101T000000
END:STANDARD
END:VTIMEZONE
BEGIN:VEVENT
DTSTART;TZID=UTC:20260323T180000
DTEND;TZID=UTC:20260323T200000
DTSTAMP:20260423T181954
CREATED:20260210T212321Z
LAST-MODIFIED:20260302T233256Z
UID:10000162-1774288800-1774296000@hamiltoncountygop.org
SUMMARY:Northern Hamilton County GOP Meeting
DESCRIPTION:The Northern Hamilton County GOP Club will meet on Monday\, March 23 at 6:00pm at Greek’s Pizzeria of Sheridan\, 417 S Main St\, Sheridan.  Guest speakers will be candidates for Sheridan Town Council and candidates for Sheriff.  Dinner will be provided. \nCost: $10 for guests\, free for members and sponsors. \nRSVP: emily.pearson317@gmail.com
URL:https://hamiltoncountygop.org/event/northern-hamilton-county-gop/
LOCATION:Greek’s Pizzeria Sheridan\, 417 S Main St\, Sheridan\, IN\, 46069
CATEGORIES:HAMCO
END:VEVENT
END:VCALENDAR