BEGIN:VCALENDAR
VERSION:2.0
PRODID:-//hamiltoncountygop - ECPv6.15.20//NONSGML v1.0//EN
CALSCALE:GREGORIAN
METHOD:PUBLISH
X-ORIGINAL-URL:https://hamiltoncountygop.org
X-WR-CALDESC:Events for hamiltoncountygop
REFRESH-INTERVAL;VALUE=DURATION:PT1H
X-Robots-Tag:noindex
X-PUBLISHED-TTL:PT1H
BEGIN:VTIMEZONE
TZID:America/Indiana/Indianapolis
BEGIN:DAYLIGHT
TZOFFSETFROM:-0500
TZOFFSETTO:-0400
TZNAME:EDT
DTSTART:20250309T070000
END:DAYLIGHT
BEGIN:STANDARD
TZOFFSETFROM:-0400
TZOFFSETTO:-0500
TZNAME:EST
DTSTART:20251102T060000
END:STANDARD
BEGIN:DAYLIGHT
TZOFFSETFROM:-0500
TZOFFSETTO:-0400
TZNAME:EDT
DTSTART:20260308T070000
END:DAYLIGHT
BEGIN:STANDARD
TZOFFSETFROM:-0400
TZOFFSETTO:-0500
TZNAME:EST
DTSTART:20261101T060000
END:STANDARD
BEGIN:DAYLIGHT
TZOFFSETFROM:-0500
TZOFFSETTO:-0400
TZNAME:EDT
DTSTART:20270314T070000
END:DAYLIGHT
BEGIN:STANDARD
TZOFFSETFROM:-0400
TZOFFSETTO:-0500
TZNAME:EST
DTSTART:20271107T060000
END:STANDARD
END:VTIMEZONE
BEGIN:VEVENT
DTSTART;TZID=America/Indiana/Indianapolis:20260412T150000
DTEND;TZID=America/Indiana/Indianapolis:20260412T170000
DTSTAMP:20260423T153307
CREATED:20260406T163720Z
LAST-MODIFIED:20260406T163721Z
UID:10000203-1776006000-1776013200@hamiltoncountygop.org
SUMMARY:Chadwick Hill for Judge Meet & Greet
DESCRIPTION:You are invited to a Meet & Greet with Chadwick Hill\, candidate for Judge Superior Court 4.  The event will be held April 12 from 3:00-5:00pm at Red Bridge Bistro\, 109 W. Jackson St\, Cicero.
URL:https://hamiltoncountygop.org/event/chadwick-hill-for-judge-meet-greet/
LOCATION:Red Bridge Bistro\, 109 W. Jackson St\, Cicero\, IN
CATEGORIES:HAMCO
END:VEVENT
END:VCALENDAR