BEGIN:VCALENDAR
VERSION:2.0
PRODID:-//hamiltoncountygop - ECPv6.15.20//NONSGML v1.0//EN
CALSCALE:GREGORIAN
METHOD:PUBLISH
X-WR-CALNAME:hamiltoncountygop
X-ORIGINAL-URL:https://hamiltoncountygop.org
X-WR-CALDESC:Events for hamiltoncountygop
REFRESH-INTERVAL;VALUE=DURATION:PT1H
X-Robots-Tag:noindex
X-PUBLISHED-TTL:PT1H
BEGIN:VTIMEZONE
TZID:UTC
BEGIN:STANDARD
TZOFFSETFROM:+0000
TZOFFSETTO:+0000
TZNAME:UTC
DTSTART:20240101T000000
END:STANDARD
END:VTIMEZONE
BEGIN:VEVENT
DTSTART;TZID=UTC:20250409T180000
DTEND;TZID=UTC:20250409T200000
DTSTAMP:20260425T081940
CREATED:20250327T222454Z
LAST-MODIFIED:20250327T222454Z
UID:10000026-1744221600-1744228800@hamiltoncountygop.org
SUMMARY:Hamco Women's Club Wine & Painting Night
DESCRIPTION:Enjoy an evening of painting\, sipping wine\, and great conversation with fellow Republican women. Whether you’re an experienced artist or a beginner\, you’ll have fun creating your masterpiece! \n\nPainting led by our very own Tina Mangos!\nAll materials provided\nWine will be served\nMeet like-minded women and network\n\nCost: Free for members & sponsors\, $5 for guests
URL:https://hamiltoncountygop.org/event/hamco-womens-club-wine-painting-night/
LOCATION:Tina’s Studio\, 444 Ash Drive\, Carmel\, IN\, 46032\, United States
CATEGORIES:HAMCO
ATTACH;FMTTYPE=image/jpeg:https://hamiltoncountygop.org/wp-content/uploads/2025/03/HamCo_Women_WinePaint_event.jpg
ORGANIZER;CN="Hamilton County GOP Women":MAILTO:hamcogopwomen@gmail.com
END:VEVENT
END:VCALENDAR