BEGIN:VCALENDAR
VERSION:2.0
PRODID:-//hamiltoncountygop - ECPv6.15.20//NONSGML v1.0//EN
CALSCALE:GREGORIAN
METHOD:PUBLISH
X-WR-CALNAME:hamiltoncountygop
X-ORIGINAL-URL:https://hamiltoncountygop.org
X-WR-CALDESC:Events for hamiltoncountygop
REFRESH-INTERVAL;VALUE=DURATION:PT1H
X-Robots-Tag:noindex
X-PUBLISHED-TTL:PT1H
BEGIN:VTIMEZONE
TZID:UTC
BEGIN:STANDARD
TZOFFSETFROM:+0000
TZOFFSETTO:+0000
TZNAME:UTC
DTSTART:20240101T000000
END:STANDARD
END:VTIMEZONE
BEGIN:VEVENT
DTSTART;TZID=UTC:20251104T180000
DTEND;TZID=UTC:20251104T200000
DTSTAMP:20260424T070732
CREATED:20251027T205940Z
LAST-MODIFIED:20251027T205940Z
UID:10000116-1762279200-1762286400@hamiltoncountygop.org
SUMMARY:HAMILTON COUNTY REPUBLICAN WOMEN
DESCRIPTION:Social Meeting and the Election of Officers for 2026 – 2028 \nAll are welcome.  Only members in good standing will be allowed to vote.
URL:https://hamiltoncountygop.org/event/hamilton-county-republican-women/
LOCATION:West Fork Whiskey\, 10 E 191st Street\, Westfield\, IN\, United States
CATEGORIES:HAMCO
ATTACH;FMTTYPE=image/jpeg:https://hamiltoncountygop.org/wp-content/uploads/2025/10/November-2025-HCRW-Meeting-Half-Size.jpg
END:VEVENT
BEGIN:VEVENT
DTSTART;TZID=UTC:20251112T180000
DTEND;TZID=UTC:20251112T200000
DTSTAMP:20260424T070732
CREATED:20251027T205107Z
LAST-MODIFIED:20251110T232412Z
UID:10000115-1762970400-1762977600@hamiltoncountygop.org
SUMMARY:SELF-DEFENSE CLASS FOR HAMILTON COUNTY REPUBLICAN WOMEN
DESCRIPTION:Deputy Josh Ireland and Corrections Officer Rachel Baldwin will lead you through the basics or Self-Defense. \nWear comfortable workout clothes and be READY TO MOVE! \nLimited to 20 participants. \nRSVP: HamCoGOPWomen@Gmail.com
URL:https://hamiltoncountygop.org/event/self-defense-class-for-hamilton-county-republican-women/
LOCATION:Hamilton County Sheriffs Office\, 18106 Cumberland Road\, Noblesville\, IN\, United States
CATEGORIES:HAMCO
ATTACH;FMTTYPE=image/jpeg:https://hamiltoncountygop.org/wp-content/uploads/2025/10/November-2025-Self-Defense-HCRW-Meeting-e1762798995797.jpg
END:VEVENT
END:VCALENDAR