BEGIN:VCALENDAR
VERSION:2.0
PRODID:-//hamiltoncountygop - ECPv6.15.20//NONSGML v1.0//EN
CALSCALE:GREGORIAN
METHOD:PUBLISH
X-ORIGINAL-URL:https://hamiltoncountygop.org
X-WR-CALDESC:Events for hamiltoncountygop
REFRESH-INTERVAL;VALUE=DURATION:PT1H
X-Robots-Tag:noindex
X-PUBLISHED-TTL:PT1H
BEGIN:VTIMEZONE
TZID:UTC
BEGIN:STANDARD
TZOFFSETFROM:+0000
TZOFFSETTO:+0000
TZNAME:UTC
DTSTART:20250101T000000
END:STANDARD
END:VTIMEZONE
BEGIN:VEVENT
DTSTART;TZID=UTC:20260226T173000
DTEND;TZID=UTC:20260226T193000
DTSTAMP:20260425T062131
CREATED:20260203T005226Z
LAST-MODIFIED:20260203T005226Z
UID:10000156-1772127000-1772134200@hamiltoncountygop.org
SUMMARY:HAMILTON COUNTY YOUNG REPUBLICANS
DESCRIPTION:It’s Always Nice to See You All. \nLet’s Get Together.
URL:https://hamiltoncountygop.org/event/hamilton-county-young-republicans-2/
LOCATION:Grand Junction Brewing\, 1189 E. 181st St.\, Westfield\, IN
CATEGORIES:HAMCO
ATTACH;FMTTYPE=image/png:https://hamiltoncountygop.org/wp-content/uploads/2026/02/image0-8-Resized-1.png
ORGANIZER;CN="Hamilton County Young Republicans":MAILTO:shields.sarah.h@gmail.com
END:VEVENT
END:VCALENDAR