BEGIN:VCALENDAR
VERSION:2.0
PRODID:-//hamiltoncountygop - ECPv6.15.20//NONSGML v1.0//EN
CALSCALE:GREGORIAN
METHOD:PUBLISH
X-WR-CALNAME:hamiltoncountygop
X-ORIGINAL-URL:https://hamiltoncountygop.org
X-WR-CALDESC:Events for hamiltoncountygop
REFRESH-INTERVAL;VALUE=DURATION:PT1H
X-Robots-Tag:noindex
X-PUBLISHED-TTL:PT1H
BEGIN:VTIMEZONE
TZID:UTC
BEGIN:STANDARD
TZOFFSETFROM:+0000
TZOFFSETTO:+0000
TZNAME:UTC
DTSTART:20250101T000000
END:STANDARD
END:VTIMEZONE
BEGIN:VEVENT
DTSTART;TZID=UTC:20260128T180000
DTEND;TZID=UTC:20260128T210000
DTSTAMP:20260425T112801
CREATED:20251230T215647Z
LAST-MODIFIED:20260123T223110Z
UID:10000132-1769623200-1769634000@hamiltoncountygop.org
SUMMARY:Chris Barrows for Judge Fundraiser
DESCRIPTION:
URL:https://hamiltoncountygop.org/event/chris-barrows-for-judge-fundraiser-2/
LOCATION:Grand Junction Brewing\, 1189 E. 181st St.\, Westfield\, IN
CATEGORIES:HAMCO
ATTACH;FMTTYPE=image/jpeg:https://hamiltoncountygop.org/wp-content/uploads/2025/12/1000008986-e1769189229834.jpg
ORGANIZER;CN="Committee to Elect Chris Barrows":MAILTO:BarrowsForJudge@gmail.com
END:VEVENT
END:VCALENDAR