BEGIN:VCALENDAR
VERSION:2.0
PRODID:-//hamiltoncountygop - ECPv6.15.20//NONSGML v1.0//EN
CALSCALE:GREGORIAN
METHOD:PUBLISH
X-ORIGINAL-URL:https://hamiltoncountygop.org
X-WR-CALDESC:Events for hamiltoncountygop
REFRESH-INTERVAL;VALUE=DURATION:PT1H
X-Robots-Tag:noindex
X-PUBLISHED-TTL:PT1H
BEGIN:VTIMEZONE
TZID:UTC
BEGIN:STANDARD
TZOFFSETFROM:+0000
TZOFFSETTO:+0000
TZNAME:UTC
DTSTART:20240101T000000
END:STANDARD
END:VTIMEZONE
BEGIN:VEVENT
DTSTART;TZID=UTC:20251205T173000
DTEND;TZID=UTC:20251205T203000
DTSTAMP:20260426T002305
CREATED:20251111T002034Z
LAST-MODIFIED:20251111T002034Z
UID:10000126-1764955800-1764966600@hamiltoncountygop.org
SUMMARY:FALL DINNER & HOLIDAY PARTY
DESCRIPTION:LET’S EAT! \nLET’S CELEBRATE Our Elected Officials\, Sponsors\, And Volunteers! \nWhat good is sitting alone in your room on a December Friday Night?
URL:https://hamiltoncountygop.org/event/fall-dinner-holiday-party/
LOCATION:Lucas Private Estate\, 11453 Ditch Road\, Carmel\, IN\, 46032\, United States
CATEGORIES:HAMCO
ATTACH;FMTTYPE=image/png:https://hamiltoncountygop.org/wp-content/uploads/2025/11/HAMCO_FallHoliday_Flyer-Resized-2025-11-10-e1762802372899.png
ORGANIZER;CN="Hamilton County GOP":MAILTO:hcrp@hamiltoncountygop.org
END:VEVENT
END:VCALENDAR