BEGIN:VCALENDAR
VERSION:2.0
PRODID:-//hamiltoncountygop - ECPv6.15.20//NONSGML v1.0//EN
CALSCALE:GREGORIAN
METHOD:PUBLISH
X-ORIGINAL-URL:https://hamiltoncountygop.org
X-WR-CALDESC:Events for hamiltoncountygop
REFRESH-INTERVAL;VALUE=DURATION:PT1H
X-Robots-Tag:noindex
X-PUBLISHED-TTL:PT1H
BEGIN:VTIMEZONE
TZID:America/Indiana/Indianapolis
BEGIN:DAYLIGHT
TZOFFSETFROM:-0500
TZOFFSETTO:-0400
TZNAME:EDT
DTSTART:20250309T070000
END:DAYLIGHT
BEGIN:STANDARD
TZOFFSETFROM:-0400
TZOFFSETTO:-0500
TZNAME:EST
DTSTART:20251102T060000
END:STANDARD
BEGIN:DAYLIGHT
TZOFFSETFROM:-0500
TZOFFSETTO:-0400
TZNAME:EDT
DTSTART:20260308T070000
END:DAYLIGHT
BEGIN:STANDARD
TZOFFSETFROM:-0400
TZOFFSETTO:-0500
TZNAME:EST
DTSTART:20261101T060000
END:STANDARD
BEGIN:DAYLIGHT
TZOFFSETFROM:-0500
TZOFFSETTO:-0400
TZNAME:EDT
DTSTART:20270314T070000
END:DAYLIGHT
BEGIN:STANDARD
TZOFFSETFROM:-0400
TZOFFSETTO:-0500
TZNAME:EST
DTSTART:20271107T060000
END:STANDARD
END:VTIMEZONE
BEGIN:VTIMEZONE
TZID:UTC
BEGIN:STANDARD
TZOFFSETFROM:+0000
TZOFFSETTO:+0000
TZNAME:UTC
DTSTART:20240101T000000
END:STANDARD
END:VTIMEZONE
BEGIN:VEVENT
DTSTART;TZID=America/Indiana/Indianapolis:20260422T180000
DTEND;TZID=America/Indiana/Indianapolis:20260422T210000
DTSTAMP:20260423T215826
CREATED:20260406T165205Z
LAST-MODIFIED:20260406T165205Z
UID:10000206-1776880800-1776891600@hamiltoncountygop.org
SUMMARY:Jan Keefer for State Senate Fundraiser
DESCRIPTION:You are invited to attend a fundraiser in support of Jan Keefer for State Senate\, District 31.  The event will be held Wednesday\, April 22 from 6:00-9:00 p.m. at Be the Boutique\, 5607 North Illinois Street\, Indianapolis\, IN 46208. \nRSVP to fundraising@jankeeferforstatesenate.com
URL:https://hamiltoncountygop.org/event/jan-keefer-for-state-senate-fundraiser-2/
LOCATION:Be the Boutique\, 5607 North Illinois St\, Indianapolis\, IN\, 46208
CATEGORIES:HAMCO
END:VEVENT
BEGIN:VEVENT
DTSTART;TZID=America/Indiana/Indianapolis:20260406T173000
DTEND;TZID=America/Indiana/Indianapolis:20260406T193000
DTSTAMP:20260423T215826
CREATED:20260406T164911Z
LAST-MODIFIED:20260406T164911Z
UID:10000205-1775496600-1775503800@hamiltoncountygop.org
SUMMARY:Jan Keefer for State Senate Fundraiser
DESCRIPTION:You are invited to attend a fundraiser in support of Jan Keefer for State Senate\, District 31.  The event will be held April 6 from 5:30-7:30 p.m. at The Wellington Fishers Banquet & Conference Center in Fishers. \nRSVP to fundraising@jankeeferforstatesenate.com
URL:https://hamiltoncountygop.org/event/jan-keefer-for-state-senate-fundraiser/
LOCATION:The Wellington Fishers Banquet & Conference Center\, 9775 North by Northeast Blvd.\, Fishers\, IN\, 46037
CATEGORIES:HAMCO
END:VEVENT
BEGIN:VEVENT
DTSTART;TZID=UTC:20260326T180000
DTEND;TZID=UTC:20260326T200000
DTSTAMP:20260423T215826
CREATED:20260224T031416Z
LAST-MODIFIED:20260224T215850Z
UID:10000180-1774548000-1774555200@hamiltoncountygop.org
SUMMARY:Travis Hankins for State Senate Fundraiser
DESCRIPTION:Travis Hankins invites you to a fundraiser dinner on March 26th at the American Legion\, 9091 126th Street in Fishers. \nDinner tickets are $35 and VIP+Dinner tickets are $75.  Sponsorships available! \nRegister: travis@travishankinsforindiana.com \n 
URL:https://hamiltoncountygop.org/event/travis-hankins-for-state-senate-fundraiser/
LOCATION:American Legion\, 9091 126th Street\, Fishers\, IN\, 46038
CATEGORIES:HAMCO
ORGANIZER;CN="Travis Hankins for Indiana":MAILTO:travis@travishankinsforindiana.com
END:VEVENT
BEGIN:VEVENT
DTSTART;TZID=UTC:20260326T173000
DTEND;TZID=UTC:20260326T190000
DTSTAMP:20260423T215826
CREATED:20260319T054746Z
LAST-MODIFIED:20260319T054747Z
UID:10000191-1774546200-1774551600@hamiltoncountygop.org
SUMMARY:Juanita Albright for State Senate Campaign Fundraiser
DESCRIPTION:Join State Senate candidate Dr. Juanita Albright at her campaign fundraiser.  The event will be Thursday\, March 26 from 5:30-7:00PM at Crosspoint Center\, 9800 Crosspoint Blvd\, Indianapolis\, IN 46256. \nRSVP to info@albrightforindiana.com
URL:https://hamiltoncountygop.org/event/juanita-albright-for-state-senate-campaign-fundraiser/
LOCATION:Crosspoint Center\, 9800 Crosspoint Center\, Indianapolis\, IN\, 46256
CATEGORIES:HAMCO
END:VEVENT
BEGIN:VEVENT
DTSTART;TZID=UTC:20260324T180000
DTEND;TZID=UTC:20260324T203000
DTSTAMP:20260423T215826
CREATED:20260309T220302Z
LAST-MODIFIED:20260323T165843Z
UID:10000186-1774375200-1774384200@hamiltoncountygop.org
SUMMARY:CANDIDATE FORUM by FISHERS GOP and YOUNG REPUBLICANS
DESCRIPTION:Come and Hear Our Primary Candidates.\nDecide for Yourself. \nWhen are you going to have a better opportunity to meet them? \nWe will also have an update on our property taxes from county assessor Kevin Poore. \nRefreshments will be served. \nRSVP REQUIRED\nRSVP to Tiffanie Ditlevson\nTiffanie@HamiltonCountyGOP.org\nOR\nRSVP to John Weingardt\nJohn@PSW-CPA.com \n 
URL:https://hamiltoncountygop.org/event/fishers-gop-candidate-forum/
LOCATION:Gaylor Electric\, 10405 Crosspoint Blvd\, Indianapolis\, IN\, 46256\, United States
CATEGORIES:HAMCO
ORGANIZER;CN="Fishers GOP":MAILTO:Tiffanie@hamiltoncountygop.org
END:VEVENT
BEGIN:VEVENT
DTSTART;TZID=UTC:20260318T073000
DTEND;TZID=UTC:20260318T090000
DTSTAMP:20260423T215826
CREATED:20260302T232851Z
LAST-MODIFIED:20260306T025450Z
UID:10000183-1773819000-1773824400@hamiltoncountygop.org
SUMMARY:Chairman's Breakfast
DESCRIPTION:Join us for our next Chairman’s Breakfast on Wednesday\, March 18\, from 7:30–9:00 AM at Peterson’s in Fishers. Guest speakers Scott Fadness\, Mayor of Fishers\, and Megan Baumgartner\, Fishers Director of Economic Development\, will share updates on major projects\, business investment\, and the continued development shaping our communities. It’s a great opportunity to connect with fellow Republicans\, hear important updates\, and start your day with great conversation. \nCost: $40 or free for Chairman’s Breakfast members \nRegister HERE. \n \n  \n 
URL:https://hamiltoncountygop.org/event/chairmans-breakfast-4/
LOCATION:Peterson’s\, 7690 E. 96th Street\, Fishers\, 46038\, United States
CATEGORIES:HAMCO
ORGANIZER;CN="Hamilton County GOP":MAILTO:hcrp@hamiltoncountygop.org
END:VEVENT
BEGIN:VEVENT
DTSTART;TZID=UTC:20260311T170000
DTEND;TZID=UTC:20260311T193000
DTSTAMP:20260423T215826
CREATED:20260224T030327Z
LAST-MODIFIED:20260224T030328Z
UID:10000179-1773248400-1773257400@hamiltoncountygop.org
SUMMARY:Josh Kocher for Prosecutor Fundraiser
DESCRIPTION:You’re invited to An Evening with Hamilton County Prosecutor Josh Kocher on Wednesday\, March 11 from 5:00-7:00PM at Salt\, 10158 Brooks School Road\, Fishers. \nRegister to Attend: EveningWithJoshKocher.eventbrite.com
URL:https://hamiltoncountygop.org/event/josh-kocher-for-prosecutor-fundraiser/
LOCATION:Salt\, 10158 Brooks School Road\, Fishers\, IN\, 46037
CATEGORIES:HAMCO
END:VEVENT
BEGIN:VEVENT
DTSTART;TZID=UTC:20260306T083000
DTEND;TZID=UTC:20260306T100000
DTSTAMP:20260423T215826
CREATED:20260224T005242Z
LAST-MODIFIED:20260305T224310Z
UID:10000173-1772785800-1772791200@hamiltoncountygop.org
SUMMARY:Breakfast with Tiffanie Ditlevson
DESCRIPTION:Enjoy breakfast with Tiffanie Ditlevson\, candidate for State Senate\, on Friday\, March 6 from 8:30AM-10:00AM at Mornings Breakfast & Brunch\, 8235 E 116th St\, Fishers.
URL:https://hamiltoncountygop.org/event/breakfast-with-tiffanie-ditlevson/
LOCATION:Mornings Breakfast & Brunch\, 8235 E 116th St\, Fishers\, IN\, 46038
CATEGORIES:HAMCO
ATTACH;FMTTYPE=image/png:https://hamiltoncountygop.org/wp-content/uploads/2026/02/Breakfast-w-Tiffanie-3-6-e1772732513332.png
END:VEVENT
BEGIN:VEVENT
DTSTART;TZID=UTC:20260222T150000
DTEND;TZID=UTC:20260222T170000
DTSTAMP:20260423T215826
CREATED:20260220T211357Z
LAST-MODIFIED:20260220T211358Z
UID:10000171-1771772400-1771779600@hamiltoncountygop.org
SUMMARY:Dixon for Sheriff Meet & Greet
DESCRIPTION:Join Sheriff candidate Dustin Dixon for a Meet & Greet at Foxgardin Family Kitchen\, 10410 Olio Road\, Fishers.
URL:https://hamiltoncountygop.org/event/dixon-for-sheriff-meet-greet/
LOCATION:FoxGardin Family Kitchen\, 10410 Olio Road\, Fishers\, IN
CATEGORIES:HAMCO
ATTACH;FMTTYPE=image/png:https://hamiltoncountygop.org/wp-content/uploads/2026/02/FoxGardin-Meet-Greet-e1771604019884.png
END:VEVENT
BEGIN:VEVENT
DTSTART;TZID=UTC:20260217T180000
DTEND;TZID=UTC:20260217T203000
DTSTAMP:20260423T215826
CREATED:20260210T002428Z
LAST-MODIFIED:20260210T002428Z
UID:10000161-1771351200-1771360200@hamiltoncountygop.org
SUMMARY:FISHERS GOP WITH KYLE WALKER\, State Senator
DESCRIPTION:What Are Those People Downtown Doing With Our Money? \nState Senator Kyle Walker explains it to you. \nLet’s find out with the Fishers GOP. \nWe’ll Have Refreshments!
URL:https://hamiltoncountygop.org/event/fishers-gop-with-kyle-walker-state-senator/
LOCATION:Gaylor Electric\, 10405 Crosspoint Blvd\, Indianapolis\, IN\, 46256\, United States
CATEGORIES:HAMCO
ATTACH;FMTTYPE=image/png:https://hamiltoncountygop.org/wp-content/uploads/2026/02/FGOP-5-e1770665020306.png
ORGANIZER;CN="Fishers GOP":MAILTO:Tiffanie@hamiltoncountygop.org
END:VEVENT
BEGIN:VEVENT
DTSTART;TZID=UTC:20260122T180000
DTEND;TZID=UTC:20260122T203000
DTSTAMP:20260423T215826
CREATED:20260119T223512Z
LAST-MODIFIED:20260119T223512Z
UID:10000141-1769104800-1769113800@hamiltoncountygop.org
SUMMARY:FISHERS GOP MEETING
DESCRIPTION:Let’s get together and start the new year.\nThe weather is cold\, but the friendships are warm. \nShelley Klingerman of Brabendercox will discuss how to successfully engage millenial and gen z voters. \nExpect pizza and beverages.
URL:https://hamiltoncountygop.org/event/fishers-gop-meeting-4/
LOCATION:Gaylor Electric\, 10405 Crosspoint Blvd\, Indianapolis\, IN\, 46256\, United States
CATEGORIES:HAMCO
ATTACH;FMTTYPE=image/png:https://hamiltoncountygop.org/wp-content/uploads/2026/01/FGOP-4-e1768843997152.png
ORGANIZER;CN="Fishers GOP":MAILTO:Tiffanie@hamiltoncountygop.org
END:VEVENT
BEGIN:VEVENT
DTSTART;TZID=UTC:20260115T173000
DTEND;TZID=UTC:20260115T193000
DTSTAMP:20260423T215826
CREATED:20260102T081748Z
LAST-MODIFIED:20260102T081749Z
UID:10000135-1768498200-1768505400@hamiltoncountygop.org
SUMMARY:Danica Eyler for Judge Fundraiser
DESCRIPTION:
URL:https://hamiltoncountygop.org/event/danica-eyler-for-judge-fundraiser/
LOCATION:12175 Visionary Way\, Fishers\, IN 46038
CATEGORIES:HAMCO
ATTACH;FMTTYPE=image/jpeg:https://hamiltoncountygop.org/wp-content/uploads/2026/01/Danica_Eyler_Jan15_Event-1_page-0001-e1767323856901.jpg
END:VEVENT
BEGIN:VEVENT
DTSTART;TZID=UTC:20251120T163000
DTEND;TZID=UTC:20251120T180000
DTSTAMP:20260423T215826
CREATED:20251111T014504Z
LAST-MODIFIED:20251111T014504Z
UID:10000128-1763656200-1763661600@hamiltoncountygop.org
SUMMARY:Debbie Driskell for Trustee Fundraiser
DESCRIPTION:
URL:https://hamiltoncountygop.org/event/debbie-driskell-for-trustee-fundraiser/
LOCATION:Meyer Najem\, 11787 Lantern Rd\, Fishers\, IN
CATEGORIES:HAMCO
ATTACH;FMTTYPE=image/jpeg:https://hamiltoncountygop.org/wp-content/uploads/2025/11/Debbie-Driskell-Flyer-11.20.25-for-website.jpg
ORGANIZER;CN="Debbie Driskell":MAILTO:debbie@debbiedriskell.com
END:VEVENT
BEGIN:VEVENT
DTSTART;TZID=UTC:20251113T170000
DTEND;TZID=UTC:20251113T183000
DTSTAMP:20260423T215826
CREATED:20251002T225111Z
LAST-MODIFIED:20251002T225646Z
UID:10000104-1763053200-1763058600@hamiltoncountygop.org
SUMMARY:Sweeney for Judge Meet & Greet
DESCRIPTION:
URL:https://hamiltoncountygop.org/event/sweeney-for-judge-meet-greet-2/
LOCATION:RileyCate\, LLC\, 11 Municipal Dr.\, Suite 320\, Fishers\, IN\, 46038
CATEGORIES:HAMCO
ATTACH;FMTTYPE=image/jpeg:https://hamiltoncountygop.org/wp-content/uploads/2025/10/November-13-Meet-and-Greet-web.jpg
END:VEVENT
BEGIN:VEVENT
DTSTART;TZID=UTC:20251020T150000
DTEND;TZID=UTC:20251020T170000
DTSTAMP:20260423T215826
CREATED:20251002T221715Z
LAST-MODIFIED:20251002T221715Z
UID:10000101-1760972400-1760979600@hamiltoncountygop.org
SUMMARY:Chris Jeter for State Representative Reception
DESCRIPTION:
URL:https://hamiltoncountygop.org/event/chris-jeter-for-state-representative-reception/
LOCATION:Massillamany Jeter & Carson\, 14 Municipal Drive\, Fishers\, IN\, 46038
CATEGORIES:HAMCO
ATTACH;FMTTYPE=image/jpeg:https://hamiltoncountygop.org/wp-content/uploads/2025/10/373DDA99-01EE-4F34-8FF4-6E2653C75B00-e1759428967388.jpeg
ORGANIZER;CN="Chris Jeter":MAILTO:colin@inhrcc.com
END:VEVENT
BEGIN:VEVENT
DTSTART;TZID=UTC:20251005T130000
DTEND;TZID=UTC:20251005T170000
DTSTAMP:20260423T215826
CREATED:20250624T195623Z
LAST-MODIFIED:20250723T200427Z
UID:10000054-1759669200-1759683600@hamiltoncountygop.org
SUMMARY:Candidate School Workshop
DESCRIPTION:
URL:https://hamiltoncountygop.org/event/candidate-school-workshop/
LOCATION:Delaware Township Government Center\, 9090 E. 131 St.\, Fishers\, IN\, 46038\, United States
CATEGORIES:HAMCO
ATTACH;FMTTYPE=image/jpeg:https://hamiltoncountygop.org/wp-content/uploads/2025/06/Ham_Co-Candidate-School.jpg
ORGANIZER;CN="Hamilton County GOP":MAILTO:hcrp@hamiltoncountygop.org
END:VEVENT
BEGIN:VEVENT
DTSTART;TZID=UTC:20250930T180000
DTEND;TZID=UTC:20250930T200000
DTSTAMP:20260423T215826
CREATED:20250913T003604Z
LAST-MODIFIED:20250913T003604Z
UID:10000097-1759255200-1759262400@hamiltoncountygop.org
SUMMARY:Fishers GOP Club Meeting
DESCRIPTION:
URL:https://hamiltoncountygop.org/event/fishers-gop-club-meeting/
LOCATION:Gaylor Electric\, 10405 Crosspoint Blvd\, Indianapolis\, IN\, 46256\, United States
CATEGORIES:HAMCO
ATTACH;FMTTYPE=image/png:https://hamiltoncountygop.org/wp-content/uploads/2025/09/FISHERS-GOP-sep-e1757709350916.png
ORGANIZER;CN="Fishers GOP":MAILTO:Tiffanie@hamiltoncountygop.org
END:VEVENT
BEGIN:VEVENT
DTSTART;TZID=UTC:20250924T170000
DTEND;TZID=UTC:20250924T200000
DTSTAMP:20260423T215826
CREATED:20250818T184357Z
LAST-MODIFIED:20250818T184357Z
UID:10000081-1758733200-1758744000@hamiltoncountygop.org
SUMMARY:Fundraiser for Trampas Whalin for Judge
DESCRIPTION:
URL:https://hamiltoncountygop.org/event/fundraiser-for-trampas-whalin-for-judge/
LOCATION:Prairie Guest House\, 13805 Allisonville Rd\, Fishers\, IN\, 46038\, United States
CATEGORIES:HAMCO
ATTACH;FMTTYPE=image/jpeg:https://hamiltoncountygop.org/wp-content/uploads/2025/08/WHALIN_Campaign_Kickoff_Flyer_page-0001.jpg
END:VEVENT
BEGIN:VEVENT
DTSTART;TZID=UTC:20250716T073000
DTEND;TZID=UTC:20250716T090000
DTSTAMP:20260423T215826
CREATED:20250708T192806Z
LAST-MODIFIED:20250708T192807Z
UID:10000060-1752651000-1752656400@hamiltoncountygop.org
SUMMARY:July Chairman's Breakfast
DESCRIPTION:
URL:https://hamiltoncountygop.org/event/july-chairmans-breakfast/
LOCATION:Peterson’s\, 7690 E. 96th Street\, Fishers\, 46038\, United States
CATEGORIES:HAMCO
ATTACH;FMTTYPE=image/jpeg:https://hamiltoncountygop.org/wp-content/uploads/2025/07/Adobe-Express-file-2.jpg
ORGANIZER;CN="Hamilton County GOP":MAILTO:hcrp@hamiltoncountygop.org
END:VEVENT
BEGIN:VEVENT
DTSTART;TZID=UTC:20250628T180000
DTEND;TZID=UTC:20250628T200000
DTSTAMP:20260423T215826
CREATED:20250220T025216Z
LAST-MODIFIED:20250627T202252Z
UID:10000014-1751133600-1751140800@hamiltoncountygop.org
SUMMARY:Spark!Fishers Parade
DESCRIPTION:
URL:https://hamiltoncountygop.org/event/hamco-3/
LOCATION:Downtown Fishers\, IN\, Fishers\, IN\, United States
CATEGORIES:HAMCO
ATTACH;FMTTYPE=image/jpeg:https://hamiltoncountygop.org/wp-content/uploads/2025/02/HamCO_SparkFishers_Event.jpg
END:VEVENT
BEGIN:VEVENT
DTSTART;TZID=UTC:20250628T140000
DTEND;TZID=UTC:20250628T210000
DTSTAMP:20260423T215826
CREATED:20250220T024714Z
LAST-MODIFIED:20250627T202225Z
UID:10000013-1751119200-1751144400@hamiltoncountygop.org
SUMMARY:Spark!Fishers Street Fair
DESCRIPTION:
URL:https://hamiltoncountygop.org/event/hamco-5/
LOCATION:IN
CATEGORIES:HAMCO
ATTACH;FMTTYPE=image/jpeg:https://hamiltoncountygop.org/wp-content/uploads/2025/02/HamCO_SparkFishers_Event.jpg
END:VEVENT
BEGIN:VEVENT
DTSTART;TZID=UTC:20250529T180000
DTEND;TZID=UTC:20250529T200000
DTSTAMP:20260423T215826
CREATED:20250527T194815Z
LAST-MODIFIED:20250527T194815Z
UID:10000036-1748541600-1748548800@hamiltoncountygop.org
SUMMARY:Fishers GOP Meeting
DESCRIPTION:Please RSVP to Tiffanie Ditlevson \nTIFFANIE@HAMILTONCOUNTYGOP.COM \nJOHN WEINGARDT  JOHN@PSW-CPA.COM
URL:https://hamiltoncountygop.org/event/fishers-gop-meeting/
LOCATION:Gaylor Electric\, 10405 Crosspoint Blvd\, Indianapolis\, IN\, 46256\, United States
CATEGORIES:HAMCO
ATTACH;FMTTYPE=image/png:https://hamiltoncountygop.org/wp-content/uploads/2025/05/FISHERS-GOP-May-3-1.png
ORGANIZER;CN="Fishers GOP":MAILTO:Tiffanie@hamiltoncountygop.org
END:VEVENT
END:VCALENDAR