BEGIN:VCALENDAR
VERSION:2.0
PRODID:-//hamiltoncountygop - ECPv6.15.20//NONSGML v1.0//EN
CALSCALE:GREGORIAN
METHOD:PUBLISH
X-ORIGINAL-URL:https://hamiltoncountygop.org
X-WR-CALDESC:Events for hamiltoncountygop
REFRESH-INTERVAL;VALUE=DURATION:PT1H
X-Robots-Tag:noindex
X-PUBLISHED-TTL:PT1H
BEGIN:VTIMEZONE
TZID:UTC
BEGIN:STANDARD
TZOFFSETFROM:+0000
TZOFFSETTO:+0000
TZNAME:UTC
DTSTART:20240101T000000
END:STANDARD
END:VTIMEZONE
BEGIN:VEVENT
DTSTART;TZID=UTC:20260305T173000
DTEND;TZID=UTC:20260305T200000
DTSTAMP:20260424T054714
CREATED:20260203T001327Z
LAST-MODIFIED:20260302T235225Z
UID:10000155-1772731800-1772740800@hamiltoncountygop.org
SUMMARY:LOCATION CHANGE! Carmel-Clay Republican Club Chili Supper
DESCRIPTION:NOTE! Carmel-Clay Chili Supper Location has changed! \nNew Location: Carmel Clay Community Building\, 210 Veteran’s Way\, 3rd Floor\, Carmel. \nThursday\, March 5.  Doors open at 5:30 PM with food starting at 6:00 PM \nGuest Speakers are Carmel Mayor Sue Finkam and State Representative Danny Lopez. \nSuggested donation: $20 per person \nRSVP is preferred but not required. \nContact Peg Durrer: 317 408-0200\nOr Dixie Packard: Dixie.Packard@Gmail.com \nAll proceeded will go to benefit Republican efforts in Carmel. \n \n 
URL:https://hamiltoncountygop.org/event/carmel-clay-chili-supper/
LOCATION:Carmel Clay Community Building\, 210 Veterans Way\, Carmel\, IN\, 46032\, United States
CATEGORIES:HAMCO
END:VEVENT
BEGIN:VEVENT
DTSTART;TZID=UTC:20260210T173000
DTEND;TZID=UTC:20260210T190000
DTSTAMP:20260424T054714
CREATED:20260203T000421Z
LAST-MODIFIED:20260203T000421Z
UID:10000152-1770744600-1770750000@hamiltoncountygop.org
SUMMARY:CARMEL CLAY REPUBLICANS
DESCRIPTION:We survived December.  We survived January. \nSPRING IS COMING!  LET’S CELEBRATE !! \nSee you at Sahm’s.
URL:https://hamiltoncountygop.org/event/carmel-clay-republicans/
LOCATION:Sahm’s Ale House\, 12819 W. New Market St\, Carmel\, IN\, 46032\, United States
CATEGORIES:HAMCO
ATTACH;FMTTYPE=image/png:https://hamiltoncountygop.org/wp-content/uploads/2026/02/IMG_0894-e1770059003413.png
END:VEVENT
BEGIN:VEVENT
DTSTART;TZID=UTC:20260203T173000
DTEND;TZID=UTC:20260203T193000
DTSTAMP:20260424T054714
CREATED:20260119T234149Z
LAST-MODIFIED:20260119T234149Z
UID:10000144-1770139800-1770147000@hamiltoncountygop.org
SUMMARY:RICH TAYLOR - CARMEL CITY COUNCIL AT LARGE
DESCRIPTION:Let’s come out for Rich Taylor for Carmel City Council At Large. \nMayor Sue Finkam and State Treasurer Daniel Elliot will speak on his behalf.
URL:https://hamiltoncountygop.org/event/rich-taylor-carmel-city-council-at-large/
LOCATION:Carmel Clay Community Building\, 210 Veterans Way\, Carmel\, IN\, 46032\, United States
CATEGORIES:HAMCO
ATTACH;FMTTYPE=image/png:https://hamiltoncountygop.org/wp-content/uploads/2026/01/Invite-e1768848033746.png
END:VEVENT
BEGIN:VEVENT
DTSTART;TZID=UTC:20260113T173000
DTEND;TZID=UTC:20260113T190000
DTSTAMP:20260424T054714
CREATED:20260109T220307Z
LAST-MODIFIED:20260109T220307Z
UID:10000136-1768325400-1768330800@hamiltoncountygop.org
SUMMARY:CARMEL CLAY REPUBLICAN CLUB
DESCRIPTION:Shake off those Wintery Blues!\n2026 is an Important Year! \nCHARGE UP CARMEL! Let’s Get Together!
URL:https://hamiltoncountygop.org/event/carmel-clay-republican-club/
LOCATION:GOAT Carmel\, 220 2nd St SW\, Carmel\, IN\, 46032\, United States
CATEGORIES:HAMCO
ATTACH;FMTTYPE=image/jpeg:https://hamiltoncountygop.org/wp-content/uploads/2026/01/IMG_6718-e1767977939426.jpg
END:VEVENT
BEGIN:VEVENT
DTSTART;TZID=UTC:20251110T173000
DTEND;TZID=UTC:20251110T190000
DTSTAMP:20260424T054714
CREATED:20251029T222822Z
LAST-MODIFIED:20251029T222822Z
UID:10000121-1762795800-1762801200@hamiltoncountygop.org
SUMMARY:Carmel-Clay Republican Social Event
DESCRIPTION:
URL:https://hamiltoncountygop.org/event/carmel-clay-republican-social-event/
LOCATION:Hotel Carmichael\, 1 Carmichael Square\,\, Carmel\, IN\, 46032
CATEGORIES:HAMCO
ATTACH;FMTTYPE=image/jpeg:https://hamiltoncountygop.org/wp-content/uploads/2025/10/image0-13.jpeg
END:VEVENT
BEGIN:VEVENT
DTSTART;TZID=UTC:20251002T180000
DTEND;TZID=UTC:20251002T200000
DTSTAMP:20260424T054714
CREATED:20250908T203031Z
LAST-MODIFIED:20250908T203031Z
UID:10000091-1759428000-1759435200@hamiltoncountygop.org
SUMMARY:CARMEL CLAY ANNUAL PIG ROAST
DESCRIPTION:Who doesn’t love a good Pig Roast? \nCome on Out for a Fun and Informative evening with \nGood Food\, Drinks\, Beautiful Indiana Autumn Weather\, Companions\, AND \nSpecial Guests:\nState Comptroller Elise Nieshalla\,\nState Treasurer Daniel Elliott\nWith The Candidates \n\nHosted by the Carmel Clay Republican Club
URL:https://hamiltoncountygop.org/event/carmel-clay-annual-pig-roast/
LOCATION:Miller Estate\, 11300 Haverstick Rd\, Carmel\, IN\, 46033\, United States
CATEGORIES:HAMCO
ATTACH;FMTTYPE=image/png:https://hamiltoncountygop.org/wp-content/uploads/2025/09/40EC93DB-D837-4E9D-9DC7-6F154DC68315.png
END:VEVENT
BEGIN:VEVENT
DTSTART;TZID=UTC:20250821T173000
DTEND;TZID=UTC:20250821T193000
DTSTAMP:20260424T054715
CREATED:20250804T182953Z
LAST-MODIFIED:20250804T183150Z
UID:10000078-1755797400-1755804600@hamiltoncountygop.org
SUMMARY:Carmel-Clay Republican Club Happy Hour
DESCRIPTION:
URL:https://hamiltoncountygop.org/event/carmel-clay-republican-club-happy-hour-2/
LOCATION:Sahm’s Ale House\, 12819 W. New Market St\, Carmel\, IN\, 46032\, United States
CATEGORIES:HAMCO
ATTACH;FMTTYPE=image/png:https://hamiltoncountygop.org/wp-content/uploads/2025/08/Invitation-August-21-Republican-Club-Meeting-1.png-1-1.png
END:VEVENT
BEGIN:VEVENT
DTSTART;TZID=UTC:20250610T173000
DTEND;TZID=UTC:20250610T193000
DTSTAMP:20260424T054715
CREATED:20250527T192450Z
LAST-MODIFIED:20250530T193524Z
UID:10000035-1749576600-1749583800@hamiltoncountygop.org
SUMMARY:Carmel-Clay Republican Club Happy Hour
DESCRIPTION:https://hamiltoncountygop.org/wp-content/uploads/2025/05/Blue-Red-Creative-Barbershop-Promotion-Flyer.png-3.png
URL:https://hamiltoncountygop.org/event/carmel-clay-republican-club-happy-hour/
LOCATION:Roots Burger Bar\, 12552 Gray Road\, Carmel\, IN\, 46033\, United States
CATEGORIES:HAMCO
ATTACH;FMTTYPE=image/png:https://hamiltoncountygop.org/wp-content/uploads/2025/05/Blue-Red-Creative-Barbershop-Promotion-Flyer-1.png-3-1.png
END:VEVENT
BEGIN:VEVENT
DTSTART;TZID=UTC:20250513T170000
DTEND;TZID=UTC:20250513T190000
DTSTAMP:20260424T054715
CREATED:20250513T182633Z
LAST-MODIFIED:20250513T182633Z
UID:10000030-1747155600-1747162800@hamiltoncountygop.org
SUMMARY:Carmel-Clay Republican Party Happy Hour
DESCRIPTION:
URL:https://hamiltoncountygop.org/event/carmel-clay-republican-party-happy-hour/
LOCATION:101 Craft Kitchen\, 1200 South Rangeline Rd\, Carmel\, 46032\, United States
CATEGORIES:HAMCO
ATTACH;FMTTYPE=image/jpeg:https://hamiltoncountygop.org/wp-content/uploads/2025/05/Carmel-Clay_Repub_Club_May_Event_WEB.jpg
END:VEVENT
BEGIN:VEVENT
DTSTART;TZID=UTC:20250408T173000
DTEND;TZID=UTC:20250408T190000
DTSTAMP:20260424T054715
CREATED:20250407T175537Z
LAST-MODIFIED:20250407T175541Z
UID:10000027-1744133400-1744138800@hamiltoncountygop.org
SUMMARY:Carmel-Clay Republican Club April Meeting
DESCRIPTION:
URL:https://hamiltoncountygop.org/event/carmel-clay-republican-club-april-meeting/
LOCATION:Danny Boy Beer Works\, 12702 Meeting House Rd\, Carmel\, IN\, 46032\, United States
CATEGORIES:HAMCO
ATTACH;FMTTYPE=image/jpeg:https://hamiltoncountygop.org/wp-content/uploads/2025/04/Carmel_Clay_Republican_Club_4.8.25.jpg
END:VEVENT
BEGIN:VEVENT
DTSTART;TZID=UTC:20250227T173000
DTEND;TZID=UTC:20250227T203000
DTSTAMP:20260424T054715
CREATED:20250220T220651Z
LAST-MODIFIED:20250306T213742Z
UID:10000015-1740677400-1740688200@hamiltoncountygop.org
SUMMARY:Carmel-Clay Republican Club Chili Supper
DESCRIPTION:Featuring Special Guest: State Rep. Danny Lopez\nSuggested donation: $20 per person \nRSVP’s preferred but not required \nAll proceeds will go to benefit Republican efforts in Carmel. Come out and support your local GOP club!
URL:https://hamiltoncountygop.org/event/hamco-14/
LOCATION:VFW Carmel Post #10003\, 12863 Old Meridian St\, Carmel\, IN\, 46032\, United States
CATEGORIES:HAMCO
ATTACH;FMTTYPE=image/jpeg:https://hamiltoncountygop.org/wp-content/uploads/2025/02/HamCo_Events_Carm_Clay_Chili_Supper.jpg
ORGANIZER;CN="Peg Durrer & Dixie Packard":MAILTO:dixie.packard@gmail.com
END:VEVENT
END:VCALENDAR