BEGIN:VCALENDAR
VERSION:2.0
PRODID:-//hamiltoncountygop - ECPv6.15.20//NONSGML v1.0//EN
CALSCALE:GREGORIAN
METHOD:PUBLISH
X-ORIGINAL-URL:https://hamiltoncountygop.org
X-WR-CALDESC:Events for hamiltoncountygop
REFRESH-INTERVAL;VALUE=DURATION:PT1H
X-Robots-Tag:noindex
X-PUBLISHED-TTL:PT1H
BEGIN:VTIMEZONE
TZID:UTC
BEGIN:STANDARD
TZOFFSETFROM:+0000
TZOFFSETTO:+0000
TZNAME:UTC
DTSTART:20250101T000000
END:STANDARD
END:VTIMEZONE
BEGIN:VEVENT
DTSTART;TZID=UTC:20260211T173000
DTEND;TZID=UTC:20260211T193000
DTSTAMP:20260424T085519
CREATED:20260128T232232Z
LAST-MODIFIED:20260205T004114Z
UID:10000150-1770831000-1770838200@hamiltoncountygop.org
SUMMARY:AMY SUMMERFIELD FOR JUDGE
DESCRIPTION:
URL:https://hamiltoncountygop.org/event/amy-summerfield-for-judge/
LOCATION:Birdies Grill House and Sports Bar\, 632 IN-32\, Westfield\, IN\, 46074\, United States
CATEGORIES:HAMCO
ATTACH;FMTTYPE=image/jpeg:https://hamiltoncountygop.org/wp-content/uploads/2026/01/Resized_Attachmen3-e1769624499988.jpeg
END:VEVENT
END:VCALENDAR