BEGIN:VCALENDAR
VERSION:2.0
PRODID:-//hamiltoncountygop - ECPv6.15.20//NONSGML v1.0//EN
CALSCALE:GREGORIAN
METHOD:PUBLISH
X-WR-CALNAME:hamiltoncountygop
X-ORIGINAL-URL:https://hamiltoncountygop.org
X-WR-CALDESC:Events for hamiltoncountygop
REFRESH-INTERVAL;VALUE=DURATION:PT1H
X-Robots-Tag:noindex
X-PUBLISHED-TTL:PT1H
BEGIN:VTIMEZONE
TZID:America/Indiana/Indianapolis
BEGIN:DAYLIGHT
TZOFFSETFROM:-0500
TZOFFSETTO:-0400
TZNAME:EDT
DTSTART:20250309T070000
END:DAYLIGHT
BEGIN:STANDARD
TZOFFSETFROM:-0400
TZOFFSETTO:-0500
TZNAME:EST
DTSTART:20251102T060000
END:STANDARD
BEGIN:DAYLIGHT
TZOFFSETFROM:-0500
TZOFFSETTO:-0400
TZNAME:EDT
DTSTART:20260308T070000
END:DAYLIGHT
BEGIN:STANDARD
TZOFFSETFROM:-0400
TZOFFSETTO:-0500
TZNAME:EST
DTSTART:20261101T060000
END:STANDARD
BEGIN:DAYLIGHT
TZOFFSETFROM:-0500
TZOFFSETTO:-0400
TZNAME:EDT
DTSTART:20270314T070000
END:DAYLIGHT
BEGIN:STANDARD
TZOFFSETFROM:-0400
TZOFFSETTO:-0500
TZNAME:EST
DTSTART:20271107T060000
END:STANDARD
END:VTIMEZONE
BEGIN:VTIMEZONE
TZID:UTC
BEGIN:STANDARD
TZOFFSETFROM:+0000
TZOFFSETTO:+0000
TZNAME:UTC
DTSTART:20250101T000000
END:STANDARD
END:VTIMEZONE
BEGIN:VEVENT
DTSTART;TZID=America/Indiana/Indianapolis:20260507T173000
DTEND;TZID=America/Indiana/Indianapolis:20260507T193000
DTSTAMP:20260423T183050
CREATED:20260401T171515Z
LAST-MODIFIED:20260401T171515Z
UID:10000198-1778175000-1778182200@hamiltoncountygop.org
SUMMARY:MARK HALL FOR HAMILTON COUNTY COUNCIL
DESCRIPTION:Come out for Mark F Hall for Hamilton County Council District 3 \nWe support transparency\, public safety\, and conservative values in local county government. \nSPONSOR LEVELS:\nPlatinum: $5000\nGold: $2000\nSilver: $1000\nBronze: $250\nIndividual: $150 \nDonations can be accepted online at MarkFHall.com \nOR by mail at\n485 Sheridan Rd\nNoblesville\, IN 46040 \nRSVP TODAY\n317 832-1104\nOR\nMark@MarkFHall.com
URL:https://hamiltoncountygop.org/event/mark-hall-for-hamilton-county-council/
LOCATION:FOP Lodge 103\, 7201 E. 196th St.\, Noblesville\, IN\, 46062\, United States
CATEGORIES:HAMCO
ORGANIZER;CN="Mark F Hall for Hamilton County Council District 3":MAILTO:Mark@MarkFHall.com
END:VEVENT
BEGIN:VEVENT
DTSTART;TZID=America/Indiana/Indianapolis:20260519T170000
DTEND;TZID=America/Indiana/Indianapolis:20260519T190000
DTSTAMP:20260423T183050
CREATED:20260406T164411Z
LAST-MODIFIED:20260420T172234Z
UID:10000204-1779210000-1779217200@hamiltoncountygop.org
SUMMARY:Danica Eyler for Judge Fundraiser
DESCRIPTION:Mark your calendar to attend a fundraiser for Danica Eyler\, Candidate for Judge of Hamilton County Superior Court 8.  The event will be held on Tuesday\, May 19\, from 5:00-7:00pm at the office of Valve & Meter\, 10475 Crosspoint Blvd\, Suite 405\, Indianapolis\, IN 46256. \n 
URL:https://hamiltoncountygop.org/event/danica-eyler-for-judge-fundraiser-2/
LOCATION:Valve & Meter\, 10475 Crosspoint Blvd\, Indianapolis\, IN\, 46256
CATEGORIES:HAMCO
END:VEVENT
BEGIN:VEVENT
DTSTART;TZID=UTC:20260615T180000
DTEND;TZID=UTC:20260615T200000
DTSTAMP:20260423T183050
CREATED:20260210T212541Z
LAST-MODIFIED:20260224T034010Z
UID:10000164-1781546400-1781553600@hamiltoncountygop.org
SUMMARY:Northern Hamilton County GOP Meeting
DESCRIPTION:More details to come.
URL:https://hamiltoncountygop.org/event/northern-hamilton-county-gop-3/
LOCATION:IN
END:VEVENT
BEGIN:VEVENT
DTSTART;TZID=UTC:20260824T180000
DTEND;TZID=UTC:20260824T200000
DTSTAMP:20260423T183050
CREATED:20260210T212659Z
LAST-MODIFIED:20260224T034023Z
UID:10000165-1787594400-1787601600@hamiltoncountygop.org
SUMMARY:Northern Hamilton County GOP Meeting
DESCRIPTION:More details to come.
URL:https://hamiltoncountygop.org/event/northern-hamilton-county-gop-4/
LOCATION:IN
END:VEVENT
BEGIN:VEVENT
DTSTART;TZID=UTC:20260914T180000
DTEND;TZID=UTC:20260914T200000
DTSTAMP:20260423T183050
CREATED:20260210T212812Z
LAST-MODIFIED:20260224T034031Z
UID:10000166-1789408800-1789416000@hamiltoncountygop.org
SUMMARY:Northern Hamilton County GOP Meeting
DESCRIPTION:More details to come.
URL:https://hamiltoncountygop.org/event/northern-hamilton-county-gop-5/
LOCATION:IN
END:VEVENT
BEGIN:VEVENT
DTSTART;TZID=UTC:20261026T180000
DTEND;TZID=UTC:20261026T200000
DTSTAMP:20260423T183050
CREATED:20260210T212927Z
LAST-MODIFIED:20260224T034038Z
UID:10000167-1793037600-1793044800@hamiltoncountygop.org
SUMMARY:Northern Hamilton County GOP Meeting
DESCRIPTION:More details to come.
URL:https://hamiltoncountygop.org/event/northern-hamilton-county-gop-6/
LOCATION:IN
END:VEVENT
BEGIN:VEVENT
DTSTART;TZID=UTC:20261109T180000
DTEND;TZID=UTC:20261109T200000
DTSTAMP:20260423T183050
CREATED:20260210T213040Z
LAST-MODIFIED:20260224T034054Z
UID:10000168-1794247200-1794254400@hamiltoncountygop.org
SUMMARY:Northern Hamilton County GOP Meeting
DESCRIPTION:More details to come. \n  \n  \n 
URL:https://hamiltoncountygop.org/event/northern-hamilton-county-gop-7/
LOCATION:IN
CATEGORIES:HAMCO
END:VEVENT
END:VCALENDAR