BEGIN:VCALENDAR
VERSION:2.0
PRODID:-//hamiltoncountygop - ECPv6.15.20//NONSGML v1.0//EN
CALSCALE:GREGORIAN
METHOD:PUBLISH
X-ORIGINAL-URL:https://hamiltoncountygop.org
X-WR-CALDESC:Events for hamiltoncountygop
REFRESH-INTERVAL;VALUE=DURATION:PT1H
X-Robots-Tag:noindex
X-PUBLISHED-TTL:PT1H
BEGIN:VTIMEZONE
TZID:America/Indiana/Indianapolis
BEGIN:DAYLIGHT
TZOFFSETFROM:-0500
TZOFFSETTO:-0400
TZNAME:EDT
DTSTART:20250309T070000
END:DAYLIGHT
BEGIN:STANDARD
TZOFFSETFROM:-0400
TZOFFSETTO:-0500
TZNAME:EST
DTSTART:20251102T060000
END:STANDARD
BEGIN:DAYLIGHT
TZOFFSETFROM:-0500
TZOFFSETTO:-0400
TZNAME:EDT
DTSTART:20260308T070000
END:DAYLIGHT
BEGIN:STANDARD
TZOFFSETFROM:-0400
TZOFFSETTO:-0500
TZNAME:EST
DTSTART:20261101T060000
END:STANDARD
BEGIN:DAYLIGHT
TZOFFSETFROM:-0500
TZOFFSETTO:-0400
TZNAME:EDT
DTSTART:20270314T070000
END:DAYLIGHT
BEGIN:STANDARD
TZOFFSETFROM:-0400
TZOFFSETTO:-0500
TZNAME:EST
DTSTART:20271107T060000
END:STANDARD
END:VTIMEZONE
BEGIN:VTIMEZONE
TZID:UTC
BEGIN:STANDARD
TZOFFSETFROM:+0000
TZOFFSETTO:+0000
TZNAME:UTC
DTSTART:20250101T000000
END:STANDARD
END:VTIMEZONE
BEGIN:VEVENT
DTSTART;TZID=America/Indiana/Indianapolis:20260406T173000
DTEND;TZID=America/Indiana/Indianapolis:20260406T193000
DTSTAMP:20260423T152718
CREATED:20260406T164911Z
LAST-MODIFIED:20260406T164911Z
UID:10000205-1775496600-1775503800@hamiltoncountygop.org
SUMMARY:Jan Keefer for State Senate Fundraiser
DESCRIPTION:You are invited to attend a fundraiser in support of Jan Keefer for State Senate\, District 31.  The event will be held April 6 from 5:30-7:30 p.m. at The Wellington Fishers Banquet & Conference Center in Fishers. \nRSVP to fundraising@jankeeferforstatesenate.com
URL:https://hamiltoncountygop.org/event/jan-keefer-for-state-senate-fundraiser/
LOCATION:The Wellington Fishers Banquet & Conference Center\, 9775 North by Northeast Blvd.\, Fishers\, IN\, 46037
CATEGORIES:HAMCO
END:VEVENT
BEGIN:VEVENT
DTSTART;TZID=America/Indiana/Indianapolis:20260402T173000
DTEND;TZID=America/Indiana/Indianapolis:20260402T193000
DTSTAMP:20260423T152719
CREATED:20260323T172041Z
LAST-MODIFIED:20260323T172041Z
UID:10000194-1775151000-1775158200@hamiltoncountygop.org
SUMMARY:CHADWICK HILL FOR JUDGE
DESCRIPTION:Chadwick Hill is running for judge of Hamilton County Superior Court 4. \nSuggested Donor Levels:\nChampion: $1000\nLeader: $500\nAdvocate: $250\nSupporter: $100 \nPlease make checks payable to:\nCommittee to Elect Chadwick Hill
URL:https://hamiltoncountygop.org/event/chadwick-hill-for-judge-2/
LOCATION:Paganelli Law Group\, 10401 N. Meridian Street\, Ste. 450\, Indianapolis\, IN\, 46290\, United States
CATEGORIES:HAMCO
END:VEVENT
BEGIN:VEVENT
DTSTART;TZID=America/Indiana/Indianapolis:20260401T170000
DTEND;TZID=America/Indiana/Indianapolis:20260401T190000
DTSTAMP:20260423T152719
CREATED:20260323T174321Z
LAST-MODIFIED:20260323T174321Z
UID:10000195-1775062800-1775070000@hamiltoncountygop.org
SUMMARY:CHRISTOPHER BARROWS FOR JUDGE
DESCRIPTION:Christopher Barrows is running for judge of Hamilton Superior Court 9. \nHosted by Torchlight Resolutions at 3755 E 82nd Street\, Indianapolis\, IN 46240.
URL:https://hamiltoncountygop.org/event/christopher-barrows-for-judge/
LOCATION:Torchlight Resolutions\, 3755 E 82nd Street\, Indianapolis\, IN\, 46240\, United States
CATEGORIES:HAMCO
END:VEVENT
BEGIN:VEVENT
DTSTART;TZID=UTC:20260331T181500
DTEND;TZID=UTC:20260331T201500
DTSTAMP:20260423T152719
CREATED:20260305T235006Z
LAST-MODIFIED:20260314T084608Z
UID:10000185-1774980900-1774988100@hamiltoncountygop.org
SUMMARY:WESTFIELD / CARMEL GOP JOINT MEETING
DESCRIPTION:RSVP TO DEFEND THE RULE OF LAW! \nCome hear our candidates for County Sheriff\, Prosecuting Attorney\, and Judges. \nWe will meet in th Viking Meadows Clubhouse\, 15757 Viking Meadows Dr\, Westfield \nThe event will start at 6:15 PM on March 31\, 2026. \nRSVP Here \n 
URL:https://hamiltoncountygop.org/event/westfield-carmel-gop-joint-meeting/
LOCATION:Viking Meadows Clubhouse\, 15757 Viking Meadows Dr\, Westfield\, IN\, 46074\, United States
CATEGORIES:HAMCO
ORGANIZER;CN="Westfield GOP Club":MAILTO:westfieldingop@gmail.com
END:VEVENT
BEGIN:VEVENT
DTSTART;TZID=UTC:20260326T180000
DTEND;TZID=UTC:20260326T200000
DTSTAMP:20260423T152719
CREATED:20260224T031416Z
LAST-MODIFIED:20260224T215850Z
UID:10000180-1774548000-1774555200@hamiltoncountygop.org
SUMMARY:Travis Hankins for State Senate Fundraiser
DESCRIPTION:Travis Hankins invites you to a fundraiser dinner on March 26th at the American Legion\, 9091 126th Street in Fishers. \nDinner tickets are $35 and VIP+Dinner tickets are $75.  Sponsorships available! \nRegister: travis@travishankinsforindiana.com \n 
URL:https://hamiltoncountygop.org/event/travis-hankins-for-state-senate-fundraiser/
LOCATION:American Legion\, 9091 126th Street\, Fishers\, IN\, 46038
CATEGORIES:HAMCO
ORGANIZER;CN="Travis Hankins for Indiana":MAILTO:travis@travishankinsforindiana.com
END:VEVENT
BEGIN:VEVENT
DTSTART;TZID=UTC:20260326T173000
DTEND;TZID=UTC:20260326T190000
DTSTAMP:20260423T152719
CREATED:20260319T054746Z
LAST-MODIFIED:20260319T054747Z
UID:10000191-1774546200-1774551600@hamiltoncountygop.org
SUMMARY:Juanita Albright for State Senate Campaign Fundraiser
DESCRIPTION:Join State Senate candidate Dr. Juanita Albright at her campaign fundraiser.  The event will be Thursday\, March 26 from 5:30-7:00PM at Crosspoint Center\, 9800 Crosspoint Blvd\, Indianapolis\, IN 46256. \nRSVP to info@albrightforindiana.com
URL:https://hamiltoncountygop.org/event/juanita-albright-for-state-senate-campaign-fundraiser/
LOCATION:Crosspoint Center\, 9800 Crosspoint Center\, Indianapolis\, IN\, 46256
CATEGORIES:HAMCO
END:VEVENT
BEGIN:VEVENT
DTSTART;TZID=America/Indiana/Indianapolis:20260326T170000
DTEND;TZID=America/Indiana/Indianapolis:20260326T183000
DTSTAMP:20260423T152719
CREATED:20260319T051949Z
LAST-MODIFIED:20260319T180600Z
UID:10000190-1774544400-1774549800@hamiltoncountygop.org
SUMMARY:Tiffanie Ditlevson for State Senate Fundraiser
DESCRIPTION:State Senate candidate Tiffanie Ditlevson is having a fundraiser on Thursday\, March 26 from 5:00-6:30PM at Taft Law Firm\, One Indiana Square\, Suite 3500\, Indianapolis. \nSponsors include Kyle Hupfer\, Whitley Yates\, Michael & Silvia Bilderback\, and Steve Fero. \nRSVP: heather@hapconsulting.org
URL:https://hamiltoncountygop.org/event/tiffanie-ditlevson-for-state-senate-fundraiser/
LOCATION:Taft Law Firm\, One Indiana Square\, Suite 3500\, Indianapolis\, IN\, 46204
CATEGORIES:HAMCO
END:VEVENT
BEGIN:VEVENT
DTSTART;TZID=UTC:20260325T173000
DTEND;TZID=UTC:20260325T193000
DTSTAMP:20260423T152719
CREATED:20260319T043719Z
LAST-MODIFIED:20260319T044500Z
UID:10000189-1774459800-1774467000@hamiltoncountygop.org
SUMMARY:John Ruckelshaus for State Senate Reception
DESCRIPTION:Join John Ruckelshaus\, candidate for State Senate District 29\, at his fundraising reception on Wednesday\, March 25\, from 5;30-7:30PM at The Club at Holiday Farms\, 3950 Club Ridge Estates\, Zionsville. \nRSVP to Ben Parke: bparke45@gmail.com or 317-749-2075 \n  \n \n  \n  \n  \n 
URL:https://hamiltoncountygop.org/event/john-ruckelshaus-for-state-senate-reception-2/
LOCATION:The Club at Holiday Farms\, 3950 Club Ridge Estates\, Zionsville\, IN
CATEGORIES:HAMCO
ORGANIZER;CN="Hoosiers for Ruckelshaus":MAILTO:bparke45@gmail.com
END:VEVENT
BEGIN:VEVENT
DTSTART;TZID=UTC:20260324T180000
DTEND;TZID=UTC:20260324T203000
DTSTAMP:20260423T152719
CREATED:20260309T220302Z
LAST-MODIFIED:20260323T165843Z
UID:10000186-1774375200-1774384200@hamiltoncountygop.org
SUMMARY:CANDIDATE FORUM by FISHERS GOP and YOUNG REPUBLICANS
DESCRIPTION:Come and Hear Our Primary Candidates.\nDecide for Yourself. \nWhen are you going to have a better opportunity to meet them? \nWe will also have an update on our property taxes from county assessor Kevin Poore. \nRefreshments will be served. \nRSVP REQUIRED\nRSVP to Tiffanie Ditlevson\nTiffanie@HamiltonCountyGOP.org\nOR\nRSVP to John Weingardt\nJohn@PSW-CPA.com \n 
URL:https://hamiltoncountygop.org/event/fishers-gop-candidate-forum/
LOCATION:Gaylor Electric\, 10405 Crosspoint Blvd\, Indianapolis\, IN\, 46256\, United States
CATEGORIES:HAMCO
ORGANIZER;CN="Fishers GOP":MAILTO:Tiffanie@hamiltoncountygop.org
END:VEVENT
BEGIN:VEVENT
DTSTART;TZID=UTC:20260324T180000
DTEND;TZID=UTC:20260324T190000
DTSTAMP:20260423T152719
CREATED:20260319T042346Z
LAST-MODIFIED:20260319T044945Z
UID:10000188-1774375200-1774378800@hamiltoncountygop.org
SUMMARY:Tracey Powell for State Senate Fundraiser
DESCRIPTION:Join Tracey Powell\, candidate for State Senate District 21\, for a fundraiser on Tuesday\, March 24 from 6:00-7:00PM at the Tipton Elks\, 117 East Madison St\, Tipton. \nFree to attend.  Donations gratefully accepted. \nRSVP: tracey@powellforindiana.com \n 
URL:https://hamiltoncountygop.org/event/tracey-powell-for-state-senate-fundraiser/
LOCATION:Tipton Elks Club\, 117 E Madison St\, Tipton\, IN
CATEGORIES:HAMCO
ORGANIZER;CN="Powell for Indiana":MAILTO:tracey@powellforindiana.com
END:VEVENT
BEGIN:VEVENT
DTSTART;TZID=UTC:20260323T180000
DTEND;TZID=UTC:20260323T200000
DTSTAMP:20260423T152719
CREATED:20260210T212321Z
LAST-MODIFIED:20260302T233256Z
UID:10000162-1774288800-1774296000@hamiltoncountygop.org
SUMMARY:Northern Hamilton County GOP Meeting
DESCRIPTION:The Northern Hamilton County GOP Club will meet on Monday\, March 23 at 6:00pm at Greek’s Pizzeria of Sheridan\, 417 S Main St\, Sheridan.  Guest speakers will be candidates for Sheridan Town Council and candidates for Sheriff.  Dinner will be provided. \nCost: $10 for guests\, free for members and sponsors. \nRSVP: emily.pearson317@gmail.com
URL:https://hamiltoncountygop.org/event/northern-hamilton-county-gop/
LOCATION:Greek’s Pizzeria Sheridan\, 417 S Main St\, Sheridan\, IN\, 46069
CATEGORIES:HAMCO
END:VEVENT
BEGIN:VEVENT
DTSTART;TZID=UTC:20260318T180000
DTEND;TZID=UTC:20260318T193000
DTSTAMP:20260423T152719
CREATED:20260314T045843Z
LAST-MODIFIED:20260314T062456Z
UID:10000187-1773856800-1773862200@hamiltoncountygop.org
SUMMARY:Jim Buck for State Senate Reception
DESCRIPTION:Join State Senator Jim Buck at his fundraising reception on Wednesday\, March 18 from 6-7:30pm at Chatham Hills Country Club\, 1100 Chatham Hills Blvd\, Westfield.  The reception is sponsored by Patrick & Erin Downey\, Ron Moore\, Joe Plankis\, and Hamilton County Councilman Ken Alexander\, with special guest Indiana Senate President Pro Tempore Rod Bray. \nRSVP carrie@insenategop.com or 317-695-3869
URL:https://hamiltoncountygop.org/event/3257/
LOCATION:Chatham Hills Clubhouse\, 1100 Chatham Hills Drive\, Westfield\, IN
CATEGORIES:HAMCO
END:VEVENT
BEGIN:VEVENT
DTSTART;TZID=UTC:20260318T173000
DTEND;TZID=UTC:20260318T190000
DTSTAMP:20260423T152719
CREATED:20260305T232840Z
LAST-MODIFIED:20260305T232840Z
UID:10000184-1773855000-1773860400@hamiltoncountygop.org
SUMMARY:TIFFANIE DITLEVSON for STATE SENATE
DESCRIPTION:Come join Tiffanie Ditlevson for a Fundraiser on March 18 from 5:30 to 7:00. \nThis will be held in the Platinum Lounge of the Columbia Club at 121 Monument Circle in Indianapolis. \nWith your help\, Tiffanie is running for the Indiana State Senate. \n 
URL:https://hamiltoncountygop.org/event/tiffanie-ditlevson-for-state-senate/
LOCATION:Columbia Club\, 121 Monument Circle\, Indianapolis\, IN\, 46204\, United States
CATEGORIES:Indiana Statewide
END:VEVENT
BEGIN:VEVENT
DTSTART;TZID=UTC:20260318T073000
DTEND;TZID=UTC:20260318T090000
DTSTAMP:20260423T152719
CREATED:20260302T232851Z
LAST-MODIFIED:20260306T025450Z
UID:10000183-1773819000-1773824400@hamiltoncountygop.org
SUMMARY:Chairman's Breakfast
DESCRIPTION:Join us for our next Chairman’s Breakfast on Wednesday\, March 18\, from 7:30–9:00 AM at Peterson’s in Fishers. Guest speakers Scott Fadness\, Mayor of Fishers\, and Megan Baumgartner\, Fishers Director of Economic Development\, will share updates on major projects\, business investment\, and the continued development shaping our communities. It’s a great opportunity to connect with fellow Republicans\, hear important updates\, and start your day with great conversation. \nCost: $40 or free for Chairman’s Breakfast members \nRegister HERE. \n \n  \n 
URL:https://hamiltoncountygop.org/event/chairmans-breakfast-4/
LOCATION:Peterson’s\, 7690 E. 96th Street\, Fishers\, 46038\, United States
CATEGORIES:HAMCO
ORGANIZER;CN="Hamilton County GOP":MAILTO:hcrp@hamiltoncountygop.org
END:VEVENT
BEGIN:VEVENT
DTSTART;TZID=UTC:20260316T170000
DTEND;TZID=UTC:20260316T210000
DTSTAMP:20260423T152719
CREATED:20260128T014202Z
LAST-MODIFIED:20260224T033848Z
UID:10000149-1773680400-1773694800@hamiltoncountygop.org
SUMMARY:Lincoln Day Dinner
DESCRIPTION:Join us at our Annual Lincoln Day Dinner on March 16 at Embassy Suites Conference Center in Noblesville.  Our guest speaker will be Riley Gaines\, a former collegiate swimmer turned national advocate for fairness in women’s sports.  Riley has become one of the most influential young conservative voices in the country. You don’t want to miss it! \nVIP Reception:  5:00 PM  (includes a photo opportunity) \nDinner Registration: 5:30 PM with Dinner at 6:30 PM \nRegister for Lincoln Day Dinner HERE
URL:https://hamiltoncountygop.org/event/lincoln-day-dinner/
LOCATION:Embassy Suites Conference Center\, 13700 Conference Center Drive South\, Noblesville\, 46060\, United States
CATEGORIES:HAMCO
ORGANIZER;CN="Hamilton County GOP":MAILTO:hcrp@hamiltoncountygop.org
END:VEVENT
BEGIN:VEVENT
DTSTART;TZID=UTC:20260311T180000
DTEND;TZID=UTC:20260311T200000
DTSTAMP:20260423T152719
CREATED:20260224T034913Z
LAST-MODIFIED:20260226T034348Z
UID:10000181-1773252000-1773259200@hamiltoncountygop.org
SUMMARY:Hamilton County Republican Women Meeting
DESCRIPTION:Join the Hamilton County Republican Women’s Club for a Legislative Update meeting featuring State Representatives from Hamilton County.  The meeting is on March 11 from 6:00-8:00PM at Bier Brewery in Noblesville. \nAppetizers will be provided.  Cash bar available. \nCost: $5 or free for members and sponsors \nRSVP: hamcogopwomen@gmail.com
URL:https://hamiltoncountygop.org/event/hamilton-county-republican-women-meeting/
LOCATION:Bier Brewery\, 1618 S 10th St\, Noblesville\, IN\, 46060\, United States
CATEGORIES:HAMCO
ORGANIZER;CN="Hamilton County GOP Women":MAILTO:hamcogopwomen@gmail.com
END:VEVENT
BEGIN:VEVENT
DTSTART;TZID=UTC:20260311T173000
DTEND;TZID=UTC:20260311T193000
DTSTAMP:20260423T152719
CREATED:20260224T004256Z
LAST-MODIFIED:20260224T033347Z
UID:10000172-1773250200-1773257400@hamiltoncountygop.org
SUMMARY:John Ruckelshaus for State Senate Reception
DESCRIPTION:Mayors Sue Finkam and Chris Jensen invite you to a Reception in support of John Ruckelshaus for State Senate District 29.  The event will be held March 11 from 5:30PM-7:30PM at Buffalouie’s in Carmel. \nRSVP: bparke45@gmail.com or call 317-749-2075 \n 
URL:https://hamiltoncountygop.org/event/john-ruckelshaus-for-state-senate-reception/
LOCATION:BuffaLouie’s in Carmel\, 43 W Main St\, Carmel\, IN\, 46032\, United States
CATEGORIES:HAMCO
ORGANIZER;CN="Hoosiers for Ruckelshaus":MAILTO:bparke45@gmail.com
END:VEVENT
BEGIN:VEVENT
DTSTART;TZID=UTC:20260311T170000
DTEND;TZID=UTC:20260311T193000
DTSTAMP:20260423T152719
CREATED:20260224T030327Z
LAST-MODIFIED:20260224T030328Z
UID:10000179-1773248400-1773257400@hamiltoncountygop.org
SUMMARY:Josh Kocher for Prosecutor Fundraiser
DESCRIPTION:You’re invited to An Evening with Hamilton County Prosecutor Josh Kocher on Wednesday\, March 11 from 5:00-7:00PM at Salt\, 10158 Brooks School Road\, Fishers. \nRegister to Attend: EveningWithJoshKocher.eventbrite.com
URL:https://hamiltoncountygop.org/event/josh-kocher-for-prosecutor-fundraiser/
LOCATION:Salt\, 10158 Brooks School Road\, Fishers\, IN\, 46037
CATEGORIES:HAMCO
END:VEVENT
BEGIN:VEVENT
DTSTART;TZID=UTC:20260310T170000
DTEND;TZID=UTC:20260310T190000
DTSTAMP:20260423T152719
CREATED:20260224T022443Z
LAST-MODIFIED:20260226T033703Z
UID:10000175-1773162000-1773169200@hamiltoncountygop.org
SUMMARY:John Lowes for Sheriff Fundraiser
DESCRIPTION:Join John Lowes\, candidate for Hamilton County Sheriff\, at his fundraiser on Tuesday\, March 10 from 5:00-7:00PM at Salt at Carmel City Center. \nHors d’oeuvres and complimentary beverages will be served. \nRSVP to corinne@therheinconsulting.com
URL:https://hamiltoncountygop.org/event/john-lowes-for-sheriff-fundraiser/
LOCATION:Salt Carmel City Center\, 11 City Center Drive\, Carmel\, IN\, 46032\, United States
CATEGORIES:HAMCO
END:VEVENT
BEGIN:VEVENT
DTSTART;TZID=UTC:20260306T170000
DTEND;TZID=UTC:20260306T190000
DTSTAMP:20260423T152719
CREATED:20260224T023028Z
LAST-MODIFIED:20260224T034358Z
UID:10000176-1772816400-1772823600@hamiltoncountygop.org
SUMMARY:John Lowes for Sheriff Fundraiser
DESCRIPTION:You are invited to a fundraiser in support of John Lowes hosted by Sheriff Dennis Quakenbush and Lt. Governor Micah Beckwith.  The event will be held March 6 from 5:00-7:00PM. \nLocation provided upon RSVP. \nRSVP: corinne@therheinconsulting.com
URL:https://hamiltoncountygop.org/event/john-lowes-for-sheriff-fundraiser-2/
LOCATION:IN
CATEGORIES:HAMCO
END:VEVENT
BEGIN:VEVENT
DTSTART;TZID=UTC:20260306T083000
DTEND;TZID=UTC:20260306T100000
DTSTAMP:20260423T152719
CREATED:20260224T005242Z
LAST-MODIFIED:20260305T224310Z
UID:10000173-1772785800-1772791200@hamiltoncountygop.org
SUMMARY:Breakfast with Tiffanie Ditlevson
DESCRIPTION:Enjoy breakfast with Tiffanie Ditlevson\, candidate for State Senate\, on Friday\, March 6 from 8:30AM-10:00AM at Mornings Breakfast & Brunch\, 8235 E 116th St\, Fishers.
URL:https://hamiltoncountygop.org/event/breakfast-with-tiffanie-ditlevson/
LOCATION:Mornings Breakfast & Brunch\, 8235 E 116th St\, Fishers\, IN\, 46038
CATEGORIES:HAMCO
ATTACH;FMTTYPE=image/png:https://hamiltoncountygop.org/wp-content/uploads/2026/02/Breakfast-w-Tiffanie-3-6-e1772732513332.png
END:VEVENT
BEGIN:VEVENT
DTSTART;TZID=UTC:20260305T173000
DTEND;TZID=UTC:20260305T200000
DTSTAMP:20260423T152719
CREATED:20260203T001327Z
LAST-MODIFIED:20260302T235225Z
UID:10000155-1772731800-1772740800@hamiltoncountygop.org
SUMMARY:LOCATION CHANGE! Carmel-Clay Republican Club Chili Supper
DESCRIPTION:NOTE! Carmel-Clay Chili Supper Location has changed! \nNew Location: Carmel Clay Community Building\, 210 Veteran’s Way\, 3rd Floor\, Carmel. \nThursday\, March 5.  Doors open at 5:30 PM with food starting at 6:00 PM \nGuest Speakers are Carmel Mayor Sue Finkam and State Representative Danny Lopez. \nSuggested donation: $20 per person \nRSVP is preferred but not required. \nContact Peg Durrer: 317 408-0200\nOr Dixie Packard: Dixie.Packard@Gmail.com \nAll proceeded will go to benefit Republican efforts in Carmel. \n \n 
URL:https://hamiltoncountygop.org/event/carmel-clay-chili-supper/
LOCATION:Carmel Clay Community Building\, 210 Veterans Way\, Carmel\, IN\, 46032\, United States
CATEGORIES:HAMCO
END:VEVENT
BEGIN:VEVENT
DTSTART;TZID=UTC:20260305T173000
DTEND;TZID=UTC:20260305T193000
DTSTAMP:20260423T152719
CREATED:20260213T223506Z
LAST-MODIFIED:20260302T233540Z
UID:10000170-1772731800-1772739000@hamiltoncountygop.org
SUMMARY:POSTPONED! Chadwick Hill for Judge Fundraiser
DESCRIPTION:  Event Update – Fundraiser Postponed  \nDue to unexpected circumstances\, our host\, Paganelli Law Group\, have advised us that they need to postpone our upcoming fundraiser.\n\nWe are grateful for their support and fully understand that sometimes circumstances require adjustments.\nA new date will be announced soon\, and we look forward to gathering with everyone then.\n\nThank you for your continued support of Magistrate Chadwick Hill for Judge Hamilton County Superio r Court 4. Stay tuned for updates.\n \n 
URL:https://hamiltoncountygop.org/event/chadwick-hill-for-judge-fundraiser/
LOCATION:Paganelli Law Group\, 10401 N. Meridian Street\, Ste. 450\, Indianapolis\, IN\, 46290\, United States
CATEGORIES:HAMCO
ORGANIZER;CN="Paganelli Law Group":MAILTO:info@paganelligroup.com
END:VEVENT
BEGIN:VEVENT
DTSTART;TZID=UTC:20260305T170000
DTEND;TZID=UTC:20260305T190000
DTSTAMP:20260423T152719
CREATED:20260224T025622Z
LAST-MODIFIED:20260224T033007Z
UID:10000178-1772730000-1772737200@hamiltoncountygop.org
SUMMARY:Meet & Greet with Dustin Dixon for Sheriff
DESCRIPTION:Join Dustin Dixon\, candidate for Sheriff\, at his meet & greet fundraiser on March 5 in Carmel.  The event will be held at The Kitchen at Pickle on Penn from 5:00-7:00PM. \nCost: $100/person\, $175/couple \nRSVP & Payment HERE
URL:https://hamiltoncountygop.org/event/meet-greet-with-dustin-dixon-for-sheriff-2/
LOCATION:The Kitchen at Pickle on Penn\, 11575 N Pennsylvania Street\, Carmel\, IN\, 46032
CATEGORIES:HAMCO
END:VEVENT
BEGIN:VEVENT
DTSTART;TZID=UTC:20260305T160000
DTEND;TZID=UTC:20260305T190000
DTSTAMP:20260423T152719
CREATED:20260227T003805Z
LAST-MODIFIED:20260227T003806Z
UID:10000182-1772726400-1772737200@hamiltoncountygop.org
SUMMARY:State Senator Jim Buck Fundraiser
DESCRIPTION:Join State Senator Jim Buck at his re-election fundraiser on March 5 from 4:00-7:00 PM at Pastarrific Restaurant in Kokomo. \nCost: Freewill (contributions are appreciated but not required) \nRSVP: judithabuck@comcast.net or text 765-438-7202
URL:https://hamiltoncountygop.org/event/state-senator-jim-buck-fundraiser/
LOCATION:Pastarrific\, 3001 S. Webster St\, Kokomo\, IN
CATEGORIES:HAMCO
END:VEVENT
BEGIN:VEVENT
DTSTART;TZID=UTC:20260302T180000
DTEND;TZID=UTC:20260302T193000
DTSTAMP:20260423T152719
CREATED:20260224T013729Z
LAST-MODIFIED:20260224T032748Z
UID:10000174-1772474400-1772479800@hamiltoncountygop.org
SUMMARY:Pizza with Powell
DESCRIPTION:You are invited to a Meet & Greet with Tracey Powell\, candidate for Indiana State Senate\, District 21.  The event will be on Monday\, March 2\, 6:00-7:30PM at Greek’s Pizzeria\, 417 S. Main St\, Sheridan. \nPizza Provided! \nDonations appreciated (Suggested donation: $25/person or $40/couple)
URL:https://hamiltoncountygop.org/event/pizza-with-powell/
LOCATION:Greek’s Pizzeria Sheridan\, 417 S Main St\, Sheridan\, IN\, 46069
CATEGORIES:HAMCO
ORGANIZER;CN="Powell for Indiana":MAILTO:tracey@powellforindiana.com
END:VEVENT
BEGIN:VEVENT
DTSTART;TZID=UTC:20260228T180000
DTEND;TZID=UTC:20260228T220000
DTSTAMP:20260423T152719
CREATED:20260119T232144Z
LAST-MODIFIED:20260224T035644Z
UID:10000143-1772301600-1772316000@hamiltoncountygop.org
SUMMARY:TONY KATZ PRESENTS: TRUMP! ONE YEAR LATER
DESCRIPTION:Hear our favorite radio personality sum up Trump’s first year of successes.  Join Tony Katz at the Hyatt Regency in Indianapolis for an unforgettable evening as Tony takes the stage to reflect on “Trump! One Year Later”! \n\n\nExperience an evening of thought-provoking discussion as Tony Katz unpacks the impact of Donald Trump’s return to the political stage. \n\n\nRegister HERE
URL:https://hamiltoncountygop.org/event/tony-katz-presents-trump-one-year-later/
LOCATION:Hyatt Regency Indianapolis\, One South Capitol Ave\, Indianapolis\, IN\, 46204\, United States
CATEGORIES:Indiana Statewide
ATTACH;FMTTYPE=image/jpeg:https://hamiltoncountygop.org/wp-content/uploads/2026/01/Katz-event-february.jpg
END:VEVENT
BEGIN:VEVENT
DTSTART;TZID=UTC:20260227T180000
DTEND;TZID=UTC:20260227T200000
DTSTAMP:20260423T152719
CREATED:20260224T024950Z
LAST-MODIFIED:20260224T032549Z
UID:10000177-1772215200-1772222400@hamiltoncountygop.org
SUMMARY:Meet & Greet with Dustin Dixon for Sheriff
DESCRIPTION:You are invited to a meet & greet with Dustin Dixon\, candidate for Hamilton County Sheriff\, on Friday\, February 27 from 6:00-8:00PM. \nLocation: Chatham Hills Clubhouse\, 1100 Chatham Hills Drive\, Westfield \nLight refreshments will be served. \nRSVP Here \n  \n 
URL:https://hamiltoncountygop.org/event/meet-greet-with-dustin-dixon-for-sheriff/
LOCATION:Chatham Hills Clubhouse\, 1100 Chatham Hills Drive\, Westfield\, IN
CATEGORIES:HAMCO
ATTACH;FMTTYPE=image/png:https://hamiltoncountygop.org/wp-content/uploads/2026/02/Chatham-Hills-MG-e1771883206142.png
END:VEVENT
BEGIN:VEVENT
DTSTART;TZID=UTC:20260226T173000
DTEND;TZID=UTC:20260226T193000
DTSTAMP:20260423T152719
CREATED:20260203T005226Z
LAST-MODIFIED:20260203T005226Z
UID:10000156-1772127000-1772134200@hamiltoncountygop.org
SUMMARY:HAMILTON COUNTY YOUNG REPUBLICANS
DESCRIPTION:It’s Always Nice to See You All. \nLet’s Get Together.
URL:https://hamiltoncountygop.org/event/hamilton-county-young-republicans-2/
LOCATION:Grand Junction Brewing\, 1189 E. 181st St.\, Westfield\, IN
CATEGORIES:HAMCO
ATTACH;FMTTYPE=image/png:https://hamiltoncountygop.org/wp-content/uploads/2026/02/image0-8-Resized-1.png
ORGANIZER;CN="Hamilton County Young Republicans":MAILTO:shields.sarah.h@gmail.com
END:VEVENT
BEGIN:VEVENT
DTSTART;TZID=UTC:20260224T164500
DTEND;TZID=UTC:20260224T183000
DTSTAMP:20260423T152719
CREATED:20260204T235936Z
LAST-MODIFIED:20260205T003527Z
UID:10000160-1771951500-1771957800@hamiltoncountygop.org
SUMMARY:NOBLESVILLE GOP SHERIFF AND JUDGE CANDIDATES
DESCRIPTION:Come hear them all\, Sheriffs and Judges\, and make your decisions.
URL:https://hamiltoncountygop.org/event/noblesville-gop-sheriff-and-judge-candidates/
LOCATION:Bru Burger Bar Noblesville\, 350 Westfield Road\, Noblesville\, IN\, 46060\, United States
CATEGORIES:HAMCO
ATTACH;FMTTYPE=image/jpeg:https://hamiltoncountygop.org/wp-content/uploads/2026/02/Noblesville-GOP-February-2026-e1770231514208.jpg
END:VEVENT
END:VCALENDAR