BEGIN:VCALENDAR
VERSION:2.0
PRODID:-//hamiltoncountygop - ECPv6.15.20//NONSGML v1.0//EN
CALSCALE:GREGORIAN
METHOD:PUBLISH
X-ORIGINAL-URL:https://hamiltoncountygop.org
X-WR-CALDESC:Events for hamiltoncountygop
REFRESH-INTERVAL;VALUE=DURATION:PT1H
X-Robots-Tag:noindex
X-PUBLISHED-TTL:PT1H
BEGIN:VTIMEZONE
TZID:UTC
BEGIN:STANDARD
TZOFFSETFROM:+0000
TZOFFSETTO:+0000
TZNAME:UTC
DTSTART:20240101T000000
END:STANDARD
END:VTIMEZONE
BEGIN:VEVENT
DTSTART;TZID=UTC:20250913T080000
DTEND;TZID=UTC:20250913T170000
DTSTAMP:20260425T115233
CREATED:20250910T082044Z
LAST-MODIFIED:20250910T082044Z
UID:10000095-1757750400-1757782800@hamiltoncountygop.org
SUMMARY:Hoosier Leadership for America Summit
DESCRIPTION:
URL:https://hamiltoncountygop.org/event/hoosier-leadership-for-america-summit/
LOCATION:Embassy Suites Conference Center\, 13700 Conference Center Drive South\, Noblesville\, 46060\, United States
CATEGORIES:HAMCO
ATTACH;FMTTYPE=image/jpeg:https://hamiltoncountygop.org/wp-content/uploads/2025/09/Banks-Hoosier-Leadership-Summit.jpg
END:VEVENT
BEGIN:VEVENT
DTSTART;TZID=UTC:20250910T180000
DTEND;TZID=UTC:20250910T200000
DTSTAMP:20260425T115233
CREATED:20250825T220028Z
LAST-MODIFIED:20250905T215703Z
UID:10000085-1757527200-1757534400@hamiltoncountygop.org
SUMMARY:Hamilton County Republican Women's Meeting
DESCRIPTION:
URL:https://hamiltoncountygop.org/event/hamilton-county-republican-womens-meeting/
LOCATION:Hamilton County Fire Fighters Hall\, 399 S 14th St.\, Noblesville\, IN\, 46060\, United States
CATEGORIES:HAMCO
ATTACH;FMTTYPE=image/png:https://hamiltoncountygop.org/wp-content/uploads/2025/08/September-2025-HCRW-Meeting.png
ORGANIZER;CN="Hamilton County GOP Women":MAILTO:hamcogopwomen@gmail.com
END:VEVENT
BEGIN:VEVENT
DTSTART;TZID=UTC:20250910T173000
DTEND;TZID=UTC:20250910T200000
DTSTAMP:20260425T115233
CREATED:20250828T232159Z
LAST-MODIFIED:20250828T232159Z
UID:10000086-1757525400-1757534400@hamiltoncountygop.org
SUMMARY:Dixon for Sheriff Fundraiser
DESCRIPTION:
URL:https://hamiltoncountygop.org/event/dixon-for-sheriff-fundraiser/
LOCATION:The Crosser Residence\, Address provided upon RSVP
ATTACH;FMTTYPE=image/jpeg:https://hamiltoncountygop.org/wp-content/uploads/2025/08/Crossesr-Event-No-Address_page-0001.jpg
END:VEVENT
BEGIN:VEVENT
DTSTART;TZID=UTC:20250910T173000
DTEND;TZID=UTC:20250910T193000
DTSTAMP:20260425T115233
CREATED:20250825T214502Z
LAST-MODIFIED:20250825T221606Z
UID:10000083-1757525400-1757532600@hamiltoncountygop.org
SUMMARY:Tim Griffin for County Council Fundraiser
DESCRIPTION:
URL:https://hamiltoncountygop.org/event/tim-griffin-for-county-council-fundraiser/
LOCATION:Carmel Fire Museum\, 210 Veterans Way\, Carmel\, IN\, 46074\, United States
CATEGORIES:HAMCO
ATTACH;FMTTYPE=image/png:https://hamiltoncountygop.org/wp-content/uploads/2025/08/Tim-Griffin-91025-Fundraiser-Invite.png
ORGANIZER;CN="Tim Griffin":MAILTO:RSVPTimGriffin@gmail.com
END:VEVENT
BEGIN:VEVENT
DTSTART;TZID=UTC:20250828T173000
DTEND;TZID=UTC:20250828T193000
DTSTAMP:20260425T115233
CREATED:20250730T201027Z
LAST-MODIFIED:20250804T180808Z
UID:10000077-1756402200-1756409400@hamiltoncountygop.org
SUMMARY:August Meetup ft. State rep Andrew Ireland
DESCRIPTION:
URL:https://hamiltoncountygop.org/event/august-meetup-ft-state-rep-andrew-ireland/
LOCATION:Wolfies Grill Geist\, 11699 Fall Creek Rd\, Indianapolis\, IN\, 46256\, United States
CATEGORIES:HAMCO
ATTACH;FMTTYPE=image/jpeg:https://hamiltoncountygop.org/wp-content/uploads/2025/07/image0-2.jpg
END:VEVENT
BEGIN:VEVENT
DTSTART;TZID=UTC:20250826T163000
DTEND;TZID=UTC:20250826T183000
DTSTAMP:20260425T115233
CREATED:20250818T183729Z
LAST-MODIFIED:20250818T183729Z
UID:10000080-1756225800-1756233000@hamiltoncountygop.org
SUMMARY:Fundraiser for Chris Evans for Judge
DESCRIPTION:
URL:https://hamiltoncountygop.org/event/fundraiser-for-chris-evans-for-judge/
LOCATION:One Penn Mark Plaza\, 11595 North Meridian Street\, Suite 110\, Carmel\, IN\, 46032\, United States
CATEGORIES:HAMCO
ATTACH;FMTTYPE=image/jpeg:https://hamiltoncountygop.org/wp-content/uploads/2025/08/1755527208904-a1c5f622-0246-432e-8567-1d965a8e34b4_1.jpg
END:VEVENT
BEGIN:VEVENT
DTSTART;TZID=UTC:20250821T173000
DTEND;TZID=UTC:20250821T193000
DTSTAMP:20260425T115233
CREATED:20250804T182953Z
LAST-MODIFIED:20250804T183150Z
UID:10000078-1755797400-1755804600@hamiltoncountygop.org
SUMMARY:Carmel-Clay Republican Club Happy Hour
DESCRIPTION:
URL:https://hamiltoncountygop.org/event/carmel-clay-republican-club-happy-hour-2/
LOCATION:Sahm’s Ale House\, 12819 W. New Market St\, Carmel\, IN\, 46032\, United States
CATEGORIES:HAMCO
ATTACH;FMTTYPE=image/png:https://hamiltoncountygop.org/wp-content/uploads/2025/08/Invitation-August-21-Republican-Club-Meeting-1.png-1-1.png
END:VEVENT
BEGIN:VEVENT
DTSTART;TZID=UTC:20250820T073000
DTEND;TZID=UTC:20250820T090000
DTSTAMP:20260425T115233
CREATED:20250728T215654Z
LAST-MODIFIED:20250728T215654Z
UID:10000075-1755675000-1755680400@hamiltoncountygop.org
SUMMARY:Chairman's Breakfast
DESCRIPTION:
URL:https://hamiltoncountygop.org/event/chairmans-breakfast/
LOCATION:Bar Louie – Carmel\, 1111 W Main Street Suite 140\, Carmel\, IN\, 46032\, United States
CATEGORIES:HAMCO
ATTACH;FMTTYPE=image/png:https://hamiltoncountygop.org/wp-content/uploads/2025/07/August-2025-Breakfast-1.png
ORGANIZER;CN="Hamilton County GOP":MAILTO:hcrp@hamiltoncountygop.org
END:VEVENT
BEGIN:VEVENT
DTSTART;TZID=UTC:20250818T180000
DTEND;TZID=UTC:20250818T200000
DTSTAMP:20260425T115233
CREATED:20250805T225033Z
LAST-MODIFIED:20250805T225033Z
UID:10000079-1755540000-1755547200@hamiltoncountygop.org
SUMMARY:Northern Hamilton County GOP Event
DESCRIPTION:
URL:https://hamiltoncountygop.org/event/northern-hamilton-county-gop-event/
LOCATION:Dolles Park Community Center\, 130 W. Walton St.\, Atlanta\, IN\, 46031\, United States
CATEGORIES:HAMCO
ATTACH;FMTTYPE=image/png:https://hamiltoncountygop.org/wp-content/uploads/2025/08/August-18-No.-HamCo-GOP-Save-the-Date-1.png
END:VEVENT
BEGIN:VEVENT
DTSTART;TZID=UTC:20250814T173000
DTEND;TZID=UTC:20250814T190000
DTSTAMP:20260425T115233
CREATED:20250708T184952Z
LAST-MODIFIED:20250708T184952Z
UID:10000059-1755192600-1755198000@hamiltoncountygop.org
SUMMARY:Reception in Support of Danny Lopez
DESCRIPTION:
URL:https://hamiltoncountygop.org/event/reception-in-support-of-danny-lopez/
LOCATION:Anker Home\, 12850 Norfolk Circle\, Carmel\, IN\, 46032\, United States
CATEGORIES:HAMCO
ATTACH;FMTTYPE=image/jpeg:https://hamiltoncountygop.org/wp-content/uploads/2025/07/LFI2026.ANKER_.8.14.25-2.jpg
END:VEVENT
BEGIN:VEVENT
DTSTART;TZID=UTC:20250807T173000
DTEND;TZID=UTC:20250807T190000
DTSTAMP:20260425T115233
CREATED:20250728T215131Z
LAST-MODIFIED:20250728T215131Z
UID:10000074-1754587800-1754593200@hamiltoncountygop.org
SUMMARY:Mayor's Reception for the Hamilton County GOP
DESCRIPTION:
URL:https://hamiltoncountygop.org/event/mayors-reception-for-the-hamilton-county-gop/
LOCATION:Matteo’s Ristorante Italiano\, 40 N. 9th St.\, Noblesville\, IN\, 46060\, United States
CATEGORIES:HAMCO
ATTACH;FMTTYPE=image/png:https://hamiltoncountygop.org/wp-content/uploads/2025/07/IMG_2222.png
END:VEVENT
BEGIN:VEVENT
DTSTART;TZID=UTC:20250805T170000
DTEND;TZID=UTC:20250805T193000
DTSTAMP:20260425T115233
CREATED:20250708T184359Z
LAST-MODIFIED:20250708T184359Z
UID:10000058-1754413200-1754422200@hamiltoncountygop.org
SUMMARY:Roundtable & Reception in Support of Danny Lopez
DESCRIPTION:
URL:https://hamiltoncountygop.org/event/roundtable-reception-in-support-of-danny-lopez/
LOCATION:Guenthner Residence\, 3403 Club Estates Dr.\, Carmel\, IN\, 46033\, United States
CATEGORIES:HAMCO
ATTACH;FMTTYPE=image/jpeg:https://hamiltoncountygop.org/wp-content/uploads/2025/07/LFI2026.GUENTHNER.8.5.25-2.jpg
END:VEVENT
BEGIN:VEVENT
DTSTART;TZID=UTC:20250804T173000
DTEND;TZID=UTC:20250804T193000
DTSTAMP:20260425T115233
CREATED:20250728T214429Z
LAST-MODIFIED:20250728T214429Z
UID:10000073-1754328600-1754335800@hamiltoncountygop.org
SUMMARY:Fundraiser for Dustin Dixon for Sheriff
DESCRIPTION:
URL:https://hamiltoncountygop.org/event/fundraiser-for-dustin-dixon-for-sheriff/
LOCATION:The Lofts on Tenth\, 1020 Clinton Street #310\, Noblesville\, IN\, 46060\, United States
CATEGORIES:HAMCO
ATTACH;FMTTYPE=image/jpeg:https://hamiltoncountygop.org/wp-content/uploads/2025/07/Dixon-August-4.jpg
END:VEVENT
BEGIN:VEVENT
DTSTART;TZID=UTC:20250804T080000
DTEND;TZID=UTC:20250804T093000
DTSTAMP:20260425T115233
CREATED:20250722T183526Z
LAST-MODIFIED:20250722T183527Z
UID:10000067-1754294400-1754299800@hamiltoncountygop.org
SUMMARY:Coffee & Donuts with Angela Swenson
DESCRIPTION:
URL:https://hamiltoncountygop.org/event/coffee-donuts-with-angela-swenson/
LOCATION:Douglas Family Law\, LLC.\, 550 Congressional Blvd\, Suite 125\, Carmel\, IN\, 46032\, United States
CATEGORIES:HAMCO
ATTACH;FMTTYPE=image/jpeg:https://hamiltoncountygop.org/wp-content/uploads/2025/07/Flyer_MandG_8425-1.jpg
END:VEVENT
BEGIN:VEVENT
DTSTART;TZID=UTC:20250803T170000
DTEND;TZID=UTC:20250803T190000
DTSTAMP:20260425T115233
CREATED:20250728T214012Z
LAST-MODIFIED:20250728T214012Z
UID:10000072-1754240400-1754247600@hamiltoncountygop.org
SUMMARY:Fundraiser for John Lowes for Sheriff
DESCRIPTION:
URL:https://hamiltoncountygop.org/event/fundraiser-for-john-lowes-for-sheriff-2/
LOCATION:VonHolten Residence
CATEGORIES:HAMCO
ATTACH;FMTTYPE=image/jpeg:https://hamiltoncountygop.org/wp-content/uploads/2025/07/E071225-VonHolten-Final_page-0001-scaled.jpg
END:VEVENT
BEGIN:VEVENT
DTSTART;TZID=UTC:20250731T173000
DTEND;TZID=UTC:20250731T190000
DTSTAMP:20260425T115233
CREATED:20250728T213452Z
LAST-MODIFIED:20250728T213452Z
UID:10000071-1753983000-1753988400@hamiltoncountygop.org
SUMMARY:Reception in Support of Kyle Walker
DESCRIPTION:
URL:https://hamiltoncountygop.org/event/reception-in-support-of-kyle-walker/
LOCATION:8583 Twin pointe cir\, 8583 Twin pointe Cir.\, Indianapolis\, IN\, 46236\, United States
CATEGORIES:HAMCO
ATTACH;FMTTYPE=image/png:https://hamiltoncountygop.org/wp-content/uploads/2025/07/Kyle-Walker-07.31.25-1.png
END:VEVENT
BEGIN:VEVENT
DTSTART;TZID=UTC:20250729T180000
DTEND;TZID=UTC:20250729T200000
DTSTAMP:20260425T115233
CREATED:20250722T184521Z
LAST-MODIFIED:20250722T184521Z
UID:10000068-1753812000-1753819200@hamiltoncountygop.org
SUMMARY:Fishers GOP Meeting
DESCRIPTION:
URL:https://hamiltoncountygop.org/event/fishers-gop-meeting-3/
LOCATION:Community Corrections\, 18104 Cumberland Road\, Noblesville\, IN\, 46060\, United States
CATEGORIES:HAMCO
ATTACH;FMTTYPE=image/png:https://hamiltoncountygop.org/wp-content/uploads/2025/07/FISHERS-GOP-July-1-1.png
ORGANIZER;CN="Fishers GOP":MAILTO:Tiffanie@hamiltoncountygop.org
END:VEVENT
BEGIN:VEVENT
DTSTART;TZID=UTC:20250729T173000
DTEND;TZID=UTC:20250729T193000
DTSTAMP:20260425T115234
CREATED:20250715T183206Z
LAST-MODIFIED:20250722T184607Z
UID:10000061-1753810200-1753817400@hamiltoncountygop.org
SUMMARY:Carmel Clay Republican Happy Hour
DESCRIPTION:
URL:https://hamiltoncountygop.org/event/carmel-clay-republican-happy-hour/
LOCATION:Upland Brewery Clay Terrace\, 14490 Clay Terrace Blvd\, Carmel\, 46032\, United States
CATEGORIES:HAMCO
ATTACH;FMTTYPE=image/png:https://hamiltoncountygop.org/wp-content/uploads/2025/07/unnamed-1-e1752589843168.png
END:VEVENT
BEGIN:VEVENT
DTSTART;TZID=UTC:20250724T173000
DTEND;TZID=UTC:20250724T193000
DTSTAMP:20260425T115234
CREATED:20250627T185450Z
LAST-MODIFIED:20250627T185450Z
UID:10000057-1753378200-1753385400@hamiltoncountygop.org
SUMMARY:Hamilton County Young Republicans July Meet Up
DESCRIPTION:
URL:https://hamiltoncountygop.org/event/hamilton-county-young-republicans-july-meet-up/
LOCATION:Queso’s Mexican Bar & Grill\, 14741 Hazel Dell Crossing\, Suite 100\, Noblesville\, IN\, 46062\, United States
CATEGORIES:HAMCO
ATTACH;FMTTYPE=image/jpeg:https://hamiltoncountygop.org/wp-content/uploads/2025/06/HCYRs-Meetup-1.jpg
ORGANIZER;CN="Hamilton County Young Republicans":MAILTO:shields.sarah.h@gmail.com
END:VEVENT
BEGIN:VEVENT
DTSTART;TZID=UTC:20250724T080000
DTEND;TZID=UTC:20250724T170000
DTSTAMP:20260425T115234
CREATED:20250724T222854Z
LAST-MODIFIED:20250724T223333Z
UID:10000070-1753344000-1753376400@hamiltoncountygop.org
SUMMARY:Sweeney for Judge
DESCRIPTION:RSVP @  sweeneyforjudge2026@gmail.com
URL:https://hamiltoncountygop.org/event/sweeney-for-judge/
LOCATION:Tom and Amy Smith’s\, 1289 W. 136th Street\, Carmel\, IN\, 46032\, United States
ATTACH;FMTTYPE=application/pdf:https://hamiltoncountygop.org/wp-content/uploads/2025/07/September-25-Sweeney-for-Judge-Event-at-the-Smith-House-2.pdf
END:VEVENT
BEGIN:VEVENT
DTSTART;TZID=UTC:20250719T100000
DTEND;TZID=UTC:20250719T210000
DTSTAMP:20260425T115234
CREATED:20250716T180501Z
LAST-MODIFIED:20250716T180501Z
UID:10000064-1752919200-1752958800@hamiltoncountygop.org
SUMMARY:4-H Fair
DESCRIPTION:
URL:https://hamiltoncountygop.org/event/4-h-fair/2025-07-19/
LOCATION:4-H Fairgrounds\, 2003 Pleasant St.\, Noblesville\, IN\, 46060\, United States
CATEGORIES:HAMCO
ATTACH;FMTTYPE=image/jpeg:https://hamiltoncountygop.org/wp-content/uploads/2025/07/4H-flyer-2025-1.jpg
ORGANIZER;CN="Hamilton County GOP":MAILTO:hcrp@hamiltoncountygop.org
END:VEVENT
BEGIN:VEVENT
DTSTART;TZID=UTC:20250718T100000
DTEND;TZID=UTC:20250718T210000
DTSTAMP:20260425T115234
CREATED:20250716T180501Z
LAST-MODIFIED:20250716T180501Z
UID:10000063-1752832800-1752872400@hamiltoncountygop.org
SUMMARY:4-H Fair
DESCRIPTION:
URL:https://hamiltoncountygop.org/event/4-h-fair/2025-07-18/
LOCATION:4-H Fairgrounds\, 2003 Pleasant St.\, Noblesville\, IN\, 46060\, United States
CATEGORIES:HAMCO
ATTACH;FMTTYPE=image/jpeg:https://hamiltoncountygop.org/wp-content/uploads/2025/07/4H-flyer-2025-1.jpg
ORGANIZER;CN="Hamilton County GOP":MAILTO:hcrp@hamiltoncountygop.org
END:VEVENT
BEGIN:VEVENT
DTSTART;TZID=UTC:20250716T170000
DTEND;TZID=UTC:20250716T190000
DTSTAMP:20260425T115234
CREATED:20250624T193121Z
LAST-MODIFIED:20250624T193122Z
UID:10000052-1752685200-1752692400@hamiltoncountygop.org
SUMMARY:Meet & Greet for Paul Sweeney for Judge
DESCRIPTION:
URL:https://hamiltoncountygop.org/event/meet-greet-for-paul-sweeney-for-judge/
LOCATION:10 E. Main Street Suite 200\, 10 E. Main Street Suite 200\, Carmel\, IN\, 46032\, United States
CATEGORIES:HAMCO
ATTACH;FMTTYPE=image/png:https://hamiltoncountygop.org/wp-content/uploads/2025/06/July-16-2-1-2.png
END:VEVENT
BEGIN:VEVENT
DTSTART;TZID=UTC:20250716T073000
DTEND;TZID=UTC:20250716T090000
DTSTAMP:20260425T115234
CREATED:20250708T192806Z
LAST-MODIFIED:20250708T192807Z
UID:10000060-1752651000-1752656400@hamiltoncountygop.org
SUMMARY:July Chairman's Breakfast
DESCRIPTION:
URL:https://hamiltoncountygop.org/event/july-chairmans-breakfast/
LOCATION:Peterson’s\, 7690 E. 96th Street\, Fishers\, 46038\, United States
CATEGORIES:HAMCO
ATTACH;FMTTYPE=image/jpeg:https://hamiltoncountygop.org/wp-content/uploads/2025/07/Adobe-Express-file-2.jpg
ORGANIZER;CN="Hamilton County GOP":MAILTO:hcrp@hamiltoncountygop.org
END:VEVENT
BEGIN:VEVENT
DTSTART;TZID=UTC:20250712T180000
DTEND;TZID=UTC:20250712T220000
DTSTAMP:20260425T115234
CREATED:20250527T201816Z
LAST-MODIFIED:20250527T201816Z
UID:10000038-1752343200-1752357600@hamiltoncountygop.org
SUMMARY:Fundraiser for John Lowes for Sheriff
DESCRIPTION:
URL:https://hamiltoncountygop.org/event/fundraiser-for-john-lowes-for-sheriff/
LOCATION:VonHolten Residence
CATEGORIES:HAMCO
ATTACH;FMTTYPE=image/jpeg:https://hamiltoncountygop.org/wp-content/uploads/2025/05/E071225-VonHolten-1_page-0001.jpg
END:VEVENT
BEGIN:VEVENT
DTSTART;TZID=UTC:20250706T120000
DTEND;TZID=UTC:20250706T180000
DTSTAMP:20260425T115234
CREATED:20250605T194652Z
LAST-MODIFIED:20250609T191250Z
UID:10000046-1751803200-1751824800@hamiltoncountygop.org
SUMMARY:Lights over Morse
DESCRIPTION:
URL:https://hamiltoncountygop.org/event/lights-over-morse/2025-07-06/
LOCATION:Cicero Community Park\, NA\, Cicero\, Indiana\, United States
CATEGORIES:HAMCO
ATTACH;FMTTYPE=image/png:https://hamiltoncountygop.org/wp-content/uploads/2025/06/Lights-Over-Morse-flyer-e1749137792183.png
END:VEVENT
BEGIN:VEVENT
DTSTART;TZID=UTC:20250705T110000
DTEND;TZID=UTC:20250705T200000
DTSTAMP:20260425T115234
CREATED:20250605T194652Z
LAST-MODIFIED:20250609T191250Z
UID:10000045-1751713200-1751745600@hamiltoncountygop.org
SUMMARY:Lights over Morse
DESCRIPTION:
URL:https://hamiltoncountygop.org/event/lights-over-morse/2025-07-05/
LOCATION:Cicero Community Park\, NA\, Cicero\, Indiana\, United States
CATEGORIES:HAMCO
ATTACH;FMTTYPE=image/png:https://hamiltoncountygop.org/wp-content/uploads/2025/06/Lights-Over-Morse-flyer-e1749137792183.png
END:VEVENT
BEGIN:VEVENT
DTSTART;TZID=UTC:20250704T160000
DTEND;TZID=UTC:20250704T180000
DTSTAMP:20260425T115234
CREATED:20250605T203556Z
LAST-MODIFIED:20250627T202335Z
UID:10000049-1751644800-1751652000@hamiltoncountygop.org
SUMMARY:Noblesville Parade
DESCRIPTION:
URL:https://hamiltoncountygop.org/event/noblesville-parade/
LOCATION:Ivy Tech Community College – Hamilton County\, 300 N 17th St\, Nobelsville\, IN\, 46060\, United States
ATTACH;FMTTYPE=image/png:https://hamiltoncountygop.org/wp-content/uploads/2025/06/Noblesville-parade-2025-e1749141271445.png
END:VEVENT
BEGIN:VEVENT
DTSTART;TZID=UTC:20250704T120000
DTEND;TZID=UTC:20250704T220000
DTSTAMP:20260425T115234
CREATED:20250627T183821Z
LAST-MODIFIED:20250627T184248Z
UID:10000056-1751630400-1751666400@hamiltoncountygop.org
SUMMARY:CarmelFest
DESCRIPTION:
URL:https://hamiltoncountygop.org/event/carmelfest/2025-07-04/
LOCATION:Civic Square Carmel
CATEGORIES:HAMCO
ATTACH;FMTTYPE=image/png:https://hamiltoncountygop.org/wp-content/uploads/2025/06/CarmelFest-street-fair-flyer-2025-5.png
ORGANIZER;CN="Hamilton County GOP":MAILTO:hcrp@hamiltoncountygop.org
END:VEVENT
BEGIN:VEVENT
DTSTART;TZID=UTC:20250704T103000
DTEND;TZID=UTC:20250704T130000
DTSTAMP:20260425T115234
CREATED:20250605T220317Z
LAST-MODIFIED:20250627T184405Z
UID:10000050-1751625000-1751634000@hamiltoncountygop.org
SUMMARY:CarmelFest Parade
DESCRIPTION:
URL:https://hamiltoncountygop.org/event/carmelfest-parade/
LOCATION:Flix Brewhouse\, 2206 E 116th St\, Carmel\, 46032\, United States
CATEGORIES:HAMCO
ATTACH;FMTTYPE=image/png:https://hamiltoncountygop.org/wp-content/uploads/2025/06/CarmelFest-parade-2025-1-e1749146003435.png
END:VEVENT
END:VCALENDAR