BEGIN:VCALENDAR
VERSION:2.0
PRODID:-//hamiltoncountygop - ECPv6.15.20//NONSGML v1.0//EN
CALSCALE:GREGORIAN
METHOD:PUBLISH
X-WR-CALNAME:hamiltoncountygop
X-ORIGINAL-URL:https://hamiltoncountygop.org
X-WR-CALDESC:Events for hamiltoncountygop
REFRESH-INTERVAL;VALUE=DURATION:PT1H
X-Robots-Tag:noindex
X-PUBLISHED-TTL:PT1H
BEGIN:VTIMEZONE
TZID:America/Indiana/Indianapolis
BEGIN:DAYLIGHT
TZOFFSETFROM:-0500
TZOFFSETTO:-0400
TZNAME:EDT
DTSTART:20250309T070000
END:DAYLIGHT
BEGIN:STANDARD
TZOFFSETFROM:-0400
TZOFFSETTO:-0500
TZNAME:EST
DTSTART:20251102T060000
END:STANDARD
BEGIN:DAYLIGHT
TZOFFSETFROM:-0500
TZOFFSETTO:-0400
TZNAME:EDT
DTSTART:20260308T070000
END:DAYLIGHT
BEGIN:STANDARD
TZOFFSETFROM:-0400
TZOFFSETTO:-0500
TZNAME:EST
DTSTART:20261101T060000
END:STANDARD
BEGIN:DAYLIGHT
TZOFFSETFROM:-0500
TZOFFSETTO:-0400
TZNAME:EDT
DTSTART:20270314T070000
END:DAYLIGHT
BEGIN:STANDARD
TZOFFSETFROM:-0400
TZOFFSETTO:-0500
TZNAME:EST
DTSTART:20271107T060000
END:STANDARD
END:VTIMEZONE
BEGIN:VEVENT
DTSTART;TZID=America/Indiana/Indianapolis:20260423T170000
DTEND;TZID=America/Indiana/Indianapolis:20260423T190000
DTSTAMP:20260423T135620
CREATED:20260401T183738Z
LAST-MODIFIED:20260402T180855Z
UID:10000200-1776963600-1776970800@hamiltoncountygop.org
SUMMARY:DELAWARE TOWNSHIP BOARD CANDIDATES FUNDRAISER
DESCRIPTION:Come meet the candidates for the Delaware Township Board. \nSupport\nRick Fain\nKim Logan\nMarilyn Schenkel\nfor the Delaware Township Board\nFor more information\, call or text 317-509-6923
URL:https://hamiltoncountygop.org/event/delaware-township-board-candidates-fundraiser/
LOCATION:Massillamany Jeter & Carson\, 14 Municipal Drive\, Fishers\, IN\, 46038
CATEGORIES:HAMCO
END:VEVENT
BEGIN:VEVENT
DTSTART;TZID=America/Indiana/Indianapolis:20260423T173000
DTEND;TZID=America/Indiana/Indianapolis:20260423T193000
DTSTAMP:20260423T135620
CREATED:20260406T163245Z
LAST-MODIFIED:20260414T211742Z
UID:10000202-1776965400-1776972600@hamiltoncountygop.org
SUMMARY:Young Republican April Meetup
DESCRIPTION:Join the Young Republicans for their April Meetup on Thursday\, April 23 from 5:30-7:30pm at Fork & Ale in Carmel. This meeting will feature a legislative debrief with prominent government affairs specialists and lobbyists\, offering insight into how they build relationships with elected officials and help shape public policy. \n \n 
URL:https://hamiltoncountygop.org/event/young-republican-april-meetup/
LOCATION:Fork & Ale House\, 350 Veterans Wy #150\, Carmel\, IN\, 46032
CATEGORIES:HAMCO
ORGANIZER;CN="Hamilton County Young Republicans":MAILTO:shields.sarah.h@gmail.com
END:VEVENT
BEGIN:VEVENT
DTSTART;TZID=America/Indiana/Indianapolis:20260426T163000
DTEND;TZID=America/Indiana/Indianapolis:20260426T193000
DTSTAMP:20260423T135620
CREATED:20260406T165530Z
LAST-MODIFIED:20260406T165530Z
UID:10000208-1777221000-1777231800@hamiltoncountygop.org
SUMMARY:Jan Keefer for State Senate Fundraiser
DESCRIPTION:You are invited to attend a fundraiser in support of Jan Keefer for State Senate\, District 31.  The event will be held April 26 from 4:30-7:30 p.m. at Cookes’ Horse Barn\, 13501 E. 116th St\,  Fishers. \nRSVP to fundraising@jankeeferforstatesenate.com
URL:https://hamiltoncountygop.org/event/jan-keefer-for-state-senate-fundraiser-3/
LOCATION:Cookes’ Horse Barn\, 13501 E 116th St\, Fishers\, IN\, 46037
CATEGORIES:HAMCO
END:VEVENT
BEGIN:VEVENT
DTSTART;TZID=America/Indiana/Indianapolis:20260428T180000
DTEND;TZID=America/Indiana/Indianapolis:20260428T200000
DTSTAMP:20260423T135620
CREATED:20260422T042926Z
LAST-MODIFIED:20260422T044831Z
UID:10000211-1777399200-1777406400@hamiltoncountygop.org
SUMMARY:Fishers GOP Meeting
DESCRIPTION:Join the Fishers GOP Club at their meeting on Tuesday\, April 28 from 6:00pm-8:00pm at Gaylor Electric Headquarters\, 10405 Crosspoint Blvd\, Indianapolis.  Guest speaker will be Indiana State Comptroller Elise Nieshalla.
URL:https://hamiltoncountygop.org/event/fishers-gop-meeting-5/
LOCATION:Gaylor Electric\, 10405 Crosspoint Blvd\, Indianapolis\, IN\, 46256\, United States
CATEGORIES:HAMCO
ORGANIZER;CN="Fishers GOP":MAILTO:Tiffanie@hamiltoncountygop.org
END:VEVENT
END:VCALENDAR