BEGIN:VCALENDAR
VERSION:2.0
PRODID:-//hamiltoncountygop - ECPv6.15.20//NONSGML v1.0//EN
CALSCALE:GREGORIAN
METHOD:PUBLISH
X-ORIGINAL-URL:https://hamiltoncountygop.org
X-WR-CALDESC:Events for hamiltoncountygop
REFRESH-INTERVAL;VALUE=DURATION:PT1H
X-Robots-Tag:noindex
X-PUBLISHED-TTL:PT1H
BEGIN:VTIMEZONE
TZID:UTC
BEGIN:STANDARD
TZOFFSETFROM:+0000
TZOFFSETTO:+0000
TZNAME:UTC
DTSTART:20250101T000000
END:STANDARD
END:VTIMEZONE
BEGIN:VEVENT
DTSTART;TZID=UTC:20260217T180000
DTEND;TZID=UTC:20260217T193000
DTSTAMP:20260424T070654
CREATED:20260203T011730Z
LAST-MODIFIED:20260203T011730Z
UID:10000157-1771351200-1771356600@hamiltoncountygop.org
SUMMARY:TRACEY POWELL FOR INDIANA STATE SENATE
DESCRIPTION:ENDORSED BY PRESIDENT TRUMP ! \nHors D’ouvers Will Be Served
URL:https://hamiltoncountygop.org/event/tracey-powell-for-indiana-state-senate/
LOCATION:Shamrock Station\, 333 W Hoover St\, Westfield\, IN\, 46074\, United States
CATEGORIES:HAMCO,Indiana Statewide
ATTACH;FMTTYPE=image/jpeg:https://hamiltoncountygop.org/wp-content/uploads/2026/02/POWELL_FUNDRAIDER_FLYER_2.17.26-2-scaled-e1770063417862.jpg
END:VEVENT
END:VCALENDAR