BEGIN:VCALENDAR
VERSION:2.0
PRODID:-//hamiltoncountygop - ECPv6.15.20//NONSGML v1.0//EN
CALSCALE:GREGORIAN
METHOD:PUBLISH
X-ORIGINAL-URL:https://hamiltoncountygop.org
X-WR-CALDESC:Events for hamiltoncountygop
REFRESH-INTERVAL;VALUE=DURATION:PT1H
X-Robots-Tag:noindex
X-PUBLISHED-TTL:PT1H
BEGIN:VTIMEZONE
TZID:UTC
BEGIN:STANDARD
TZOFFSETFROM:+0000
TZOFFSETTO:+0000
TZNAME:UTC
DTSTART:20240101T000000
END:STANDARD
END:VTIMEZONE
BEGIN:VEVENT
DTSTART;TZID=UTC:20251029T183000
DTEND;TZID=UTC:20251029T203000
DTSTAMP:20260425T063920
CREATED:20251010T212102Z
LAST-MODIFIED:20251010T212102Z
UID:10000107-1761762600-1761769800@hamiltoncountygop.org
SUMMARY:ALAINA SHONKWILER FOR STATE REPRESENTATIVE
DESCRIPTION:Come Out for Alaina! \nGood Government is Good for Everybody!
URL:https://hamiltoncountygop.org/event/alaina-shonkwiler-for-state-representative/
LOCATION:Spencer Farm Winery\, 7015 E 161st Street\, Noblesville\, IN\, 46062\, United States
CATEGORIES:HAMCO,Indiana Statewide
ATTACH;FMTTYPE=image/jpeg:https://hamiltoncountygop.org/wp-content/uploads/2025/10/AFN-10.29.25-Spencer-Farm-e1760111183272.jpg
ORGANIZER;CN="Alaina for Noblesville":MAILTO:AlainaForNoblesville@Gmail.com
END:VEVENT
END:VCALENDAR