BEGIN:VCALENDAR
VERSION:2.0
PRODID:-//hamiltoncountygop - ECPv6.15.20//NONSGML v1.0//EN
CALSCALE:GREGORIAN
METHOD:PUBLISH
X-WR-CALNAME:hamiltoncountygop
X-ORIGINAL-URL:https://hamiltoncountygop.org
X-WR-CALDESC:Events for hamiltoncountygop
REFRESH-INTERVAL;VALUE=DURATION:PT1H
X-Robots-Tag:noindex
X-PUBLISHED-TTL:PT1H
BEGIN:VTIMEZONE
TZID:UTC
BEGIN:STANDARD
TZOFFSETFROM:+0000
TZOFFSETTO:+0000
TZNAME:UTC
DTSTART:20240101T000000
END:STANDARD
END:VTIMEZONE
BEGIN:VEVENT
DTSTART;TZID=UTC:20251027T173000
DTEND;TZID=UTC:20251027T203000
DTSTAMP:20260425T063854
CREATED:20251006T210947Z
LAST-MODIFIED:20251013T221054Z
UID:10000105-1761586200-1761597000@hamiltoncountygop.org
SUMMARY:INDIANA GOP FALL DINNER 2025
DESCRIPTION:It is time for us to gather.  Food\, Drink\, and FUN for All
URL:https://hamiltoncountygop.org/event/indiana-gop-fall-dinner-2025/
LOCATION:Indiana Roof Ballroom\, 140 W Washington St\, Indianapolis\, IN\, 46204\, United States
CATEGORIES:HAMCO,MarionCo
ATTACH;FMTTYPE=image/jpeg:https://hamiltoncountygop.org/wp-content/uploads/2025/10/2025-Fall-Dinner-1-pages-1_page-0001-e1760378086581.jpg
ORGANIZER;CN="Indiana Republican Party":MAILTO:rsvp@indiana.gop
END:VEVENT
BEGIN:VEVENT
DTSTART;TZID=UTC:20251027T180000
DTEND;TZID=UTC:20251027T193000
DTSTAMP:20260425T063854
CREATED:20251002T223354Z
LAST-MODIFIED:20251002T223858Z
UID:10000103-1761588000-1761593400@hamiltoncountygop.org
SUMMARY:Sweeney for Judge Meet & Greet
DESCRIPTION:
URL:https://hamiltoncountygop.org/event/sweeney-for-judge-meet-greet/
LOCATION:5680 Kenyon Trail\, 5680 Kenyon Trail\, Noblesville\, IN\, 46062
CATEGORIES:HAMCO
ATTACH;FMTTYPE=image/jpeg:https://hamiltoncountygop.org/wp-content/uploads/2025/10/October-27-Meet-and-Greet-scaled-e1759430265979.jpg
END:VEVENT
END:VCALENDAR