BEGIN:VCALENDAR
VERSION:2.0
PRODID:-//hamiltoncountygop - ECPv6.15.20//NONSGML v1.0//EN
CALSCALE:GREGORIAN
METHOD:PUBLISH
X-WR-CALNAME:hamiltoncountygop
X-ORIGINAL-URL:https://hamiltoncountygop.org
X-WR-CALDESC:Events for hamiltoncountygop
REFRESH-INTERVAL;VALUE=DURATION:PT1H
X-Robots-Tag:noindex
X-PUBLISHED-TTL:PT1H
BEGIN:VTIMEZONE
TZID:UTC
BEGIN:STANDARD
TZOFFSETFROM:+0000
TZOFFSETTO:+0000
TZNAME:UTC
DTSTART:20240101T000000
END:STANDARD
END:VTIMEZONE
BEGIN:VEVENT
DTSTART;TZID=UTC:20251025T160000
DTEND;TZID=UTC:20251025T180000
DTSTAMP:20260425T094240
CREATED:20251023T201657Z
LAST-MODIFIED:20251023T201657Z
UID:10000114-1761408000-1761415200@hamiltoncountygop.org
SUMMARY:Mayor Sue Finkam's Victory Tailgate Fundraiser
DESCRIPTION:
URL:https://hamiltoncountygop.org/event/mayor-sue-finkams-victory-tailgate-fundraiser/
LOCATION:The Lucas Estate\, TBA\, Carmel\, IN\, United States
CATEGORIES:HAMCO
ATTACH;FMTTYPE=image/jpeg:https://hamiltoncountygop.org/wp-content/uploads/2025/10/IMG_4846-e1761236164572.jpeg
ORGANIZER;CN="Sue Finkam for Mayor":MAILTO:Kory@Ascent-Strategic.com
END:VEVENT
END:VCALENDAR