BEGIN:VCALENDAR
VERSION:2.0
PRODID:-//hamiltoncountygop - ECPv6.15.20//NONSGML v1.0//EN
CALSCALE:GREGORIAN
METHOD:PUBLISH
X-WR-CALNAME:hamiltoncountygop
X-ORIGINAL-URL:https://hamiltoncountygop.org
X-WR-CALDESC:Events for hamiltoncountygop
REFRESH-INTERVAL;VALUE=DURATION:PT1H
X-Robots-Tag:noindex
X-PUBLISHED-TTL:PT1H
BEGIN:VTIMEZONE
TZID:UTC
BEGIN:STANDARD
TZOFFSETFROM:+0000
TZOFFSETTO:+0000
TZNAME:UTC
DTSTART:20240101T000000
END:STANDARD
END:VTIMEZONE
BEGIN:VEVENT
DTSTART;TZID=UTC:20251009T160000
DTEND;TZID=UTC:20251009T173000
DTSTAMP:20260425T123227
CREATED:20251002T222418Z
LAST-MODIFIED:20251002T225824Z
UID:10000102-1760025600-1760031000@hamiltoncountygop.org
SUMMARY:Darren Peterson for City Council Happy Hour
DESCRIPTION:
URL:https://hamiltoncountygop.org/event/darren-peterson-for-city-council-happy-hour/
LOCATION:The CourtHouse Club\, 110 N. 9th Street\, Noblesville\, IN\, 46060
CATEGORIES:HAMCO
ATTACH;FMTTYPE=image/png:https://hamiltoncountygop.org/wp-content/uploads/2025/10/Peterson-10092025-Fundraiser-7-x-5-in-e1759429428612.png
ORGANIZER;CN="Darren Peterson":MAILTO:keeton@coverdaleconsuulting.com
END:VEVENT
BEGIN:VEVENT
DTSTART;TZID=UTC:20251009T170000
DTEND;TZID=UTC:20251009T190000
DTSTAMP:20260425T123227
CREATED:20250930T220147Z
LAST-MODIFIED:20250930T222515Z
UID:10000098-1760029200-1760036400@hamiltoncountygop.org
SUMMARY:SARAH SHIELDS FOR JUDGE CAMPAIGN KICK-OFF
DESCRIPTION:
URL:https://hamiltoncountygop.org/event/sarah-shields-for-judge-campaign-kick-off/
LOCATION:Coots\, Henke & Wheeler\, 255 E Carmel Drive\, Carmel\, IN\, 46032\, United States
CATEGORIES:HAMCO
ATTACH;FMTTYPE=image/jpeg:https://hamiltoncountygop.org/wp-content/uploads/2025/09/image0-8-e1759255061582.jpeg
END:VEVENT
BEGIN:VEVENT
DTSTART;TZID=UTC:20251009T173000
DTEND;TZID=UTC:20251009T193000
DTSTAMP:20260425T123227
CREATED:20250908T211535Z
LAST-MODIFIED:20250908T211535Z
UID:10000093-1760031000-1760038200@hamiltoncountygop.org
SUMMARY:MARK F HALL CAMPAIGN KICKOFF
DESCRIPTION:
URL:https://hamiltoncountygop.org/event/mark-f-hall-campaign-kickoff/
LOCATION:FOP Lodge 103\, 7201 E. 196th St.\, Noblesville\, IN\, 46062\, United States
CATEGORIES:HAMCO
ATTACH;FMTTYPE=image/jpeg:https://hamiltoncountygop.org/wp-content/uploads/2025/09/Mark-F-Hall_Campaign-Kickoff-Invitation_page-0001-scaled-e1757351502117.jpg
ORGANIZER;CN="Mark F Hall for Hamilton County Council District 3":MAILTO:Mark@MarkFHall.com
END:VEVENT
END:VCALENDAR