BEGIN:VCALENDAR
VERSION:2.0
PRODID:-//hamiltoncountygop - ECPv6.15.20//NONSGML v1.0//EN
CALSCALE:GREGORIAN
METHOD:PUBLISH
X-WR-CALNAME:hamiltoncountygop
X-ORIGINAL-URL:https://hamiltoncountygop.org
X-WR-CALDESC:Events for hamiltoncountygop
REFRESH-INTERVAL;VALUE=DURATION:PT1H
X-Robots-Tag:noindex
X-PUBLISHED-TTL:PT1H
BEGIN:VTIMEZONE
TZID:UTC
BEGIN:STANDARD
TZOFFSETFROM:+0000
TZOFFSETTO:+0000
TZNAME:UTC
DTSTART:20240101T000000
END:STANDARD
END:VTIMEZONE
BEGIN:VEVENT
DTSTART;TZID=UTC:20250927T130000
DTEND;TZID=UTC:20250927T160000
DTSTAMP:20260425T194450
CREATED:20250722T182253Z
LAST-MODIFIED:20250722T182253Z
UID:10000066-1758978000-1758988800@hamiltoncountygop.org
SUMMARY:Sheller & Beaver Fundraiser
DESCRIPTION:
URL:https://hamiltoncountygop.org/event/sheller-beaver-fundraiser/
LOCATION:FOP Building\, 7201 E 196th Street\, Noblesville\, IN\, 46062\, United States
CATEGORIES:HAMCO
ATTACH;FMTTYPE=image/jpeg:https://hamiltoncountygop.org/wp-content/uploads/2025/07/Sheller-Beaver-Fundraiser_page-00011.jpg
END:VEVENT
END:VCALENDAR