BEGIN:VCALENDAR
VERSION:2.0
PRODID:-//hamiltoncountygop - ECPv6.15.20//NONSGML v1.0//EN
CALSCALE:GREGORIAN
METHOD:PUBLISH
X-WR-CALNAME:hamiltoncountygop
X-ORIGINAL-URL:https://hamiltoncountygop.org
X-WR-CALDESC:Events for hamiltoncountygop
REFRESH-INTERVAL;VALUE=DURATION:PT1H
X-Robots-Tag:noindex
X-PUBLISHED-TTL:PT1H
BEGIN:VTIMEZONE
TZID:America/Indiana/Indianapolis
BEGIN:DAYLIGHT
TZOFFSETFROM:-0500
TZOFFSETTO:-0400
TZNAME:EDT
DTSTART:20250309T070000
END:DAYLIGHT
BEGIN:STANDARD
TZOFFSETFROM:-0400
TZOFFSETTO:-0500
TZNAME:EST
DTSTART:20251102T060000
END:STANDARD
BEGIN:DAYLIGHT
TZOFFSETFROM:-0500
TZOFFSETTO:-0400
TZNAME:EDT
DTSTART:20260308T070000
END:DAYLIGHT
BEGIN:STANDARD
TZOFFSETFROM:-0400
TZOFFSETTO:-0500
TZNAME:EST
DTSTART:20261101T060000
END:STANDARD
BEGIN:DAYLIGHT
TZOFFSETFROM:-0500
TZOFFSETTO:-0400
TZNAME:EDT
DTSTART:20270314T070000
END:DAYLIGHT
BEGIN:STANDARD
TZOFFSETFROM:-0400
TZOFFSETTO:-0500
TZNAME:EST
DTSTART:20271107T060000
END:STANDARD
END:VTIMEZONE
BEGIN:VEVENT
DTSTART;TZID=America/Indiana/Indianapolis:20260507T173000
DTEND;TZID=America/Indiana/Indianapolis:20260507T193000
DTSTAMP:20260423T152412
CREATED:20260401T171515Z
LAST-MODIFIED:20260401T171515Z
UID:10000198-1778175000-1778182200@hamiltoncountygop.org
SUMMARY:MARK HALL FOR HAMILTON COUNTY COUNCIL
DESCRIPTION:Come out for Mark F Hall for Hamilton County Council District 3 \nWe support transparency\, public safety\, and conservative values in local county government. \nSPONSOR LEVELS:\nPlatinum: $5000\nGold: $2000\nSilver: $1000\nBronze: $250\nIndividual: $150 \nDonations can be accepted online at MarkFHall.com \nOR by mail at\n485 Sheridan Rd\nNoblesville\, IN 46040 \nRSVP TODAY\n317 832-1104\nOR\nMark@MarkFHall.com
URL:https://hamiltoncountygop.org/event/mark-hall-for-hamilton-county-council/
LOCATION:FOP Lodge 103\, 7201 E. 196th St.\, Noblesville\, IN\, 46062\, United States
CATEGORIES:HAMCO
ORGANIZER;CN="Mark F Hall for Hamilton County Council District 3":MAILTO:Mark@MarkFHall.com
END:VEVENT
END:VCALENDAR