BEGIN:VCALENDAR
VERSION:2.0
PRODID:-//hamiltoncountygop - ECPv6.15.20//NONSGML v1.0//EN
CALSCALE:GREGORIAN
METHOD:PUBLISH
X-ORIGINAL-URL:https://hamiltoncountygop.org
X-WR-CALDESC:Events for hamiltoncountygop
REFRESH-INTERVAL;VALUE=DURATION:PT1H
X-Robots-Tag:noindex
X-PUBLISHED-TTL:PT1H
BEGIN:VTIMEZONE
TZID:America/Indiana/Indianapolis
BEGIN:DAYLIGHT
TZOFFSETFROM:-0500
TZOFFSETTO:-0400
TZNAME:EDT
DTSTART:20250309T070000
END:DAYLIGHT
BEGIN:STANDARD
TZOFFSETFROM:-0400
TZOFFSETTO:-0500
TZNAME:EST
DTSTART:20251102T060000
END:STANDARD
BEGIN:DAYLIGHT
TZOFFSETFROM:-0500
TZOFFSETTO:-0400
TZNAME:EDT
DTSTART:20260308T070000
END:DAYLIGHT
BEGIN:STANDARD
TZOFFSETFROM:-0400
TZOFFSETTO:-0500
TZNAME:EST
DTSTART:20261101T060000
END:STANDARD
BEGIN:DAYLIGHT
TZOFFSETFROM:-0500
TZOFFSETTO:-0400
TZNAME:EDT
DTSTART:20270314T070000
END:DAYLIGHT
BEGIN:STANDARD
TZOFFSETFROM:-0400
TZOFFSETTO:-0500
TZNAME:EST
DTSTART:20271107T060000
END:STANDARD
END:VTIMEZONE
BEGIN:VEVENT
DTSTART;TZID=America/Indiana/Indianapolis:20260413T180000
DTEND;TZID=America/Indiana/Indianapolis:20260413T200000
DTSTAMP:20260423T122102
CREATED:20260401T181918Z
LAST-MODIFIED:20260401T182208Z
UID:10000199-1776103200-1776110400@hamiltoncountygop.org
SUMMARY:NORTHERN HAMILTON COUNTY GOP CLUB
DESCRIPTION:April may be Rainy and Dreary \nBut here\, together\, we will be Sunshiney. \nJoin us for A Delicious Dinner while you\nGet informed on local issues\,\nHear from our candidates and local leaders\, and\nGet Involved. \nFree to Sponsors and Members\n$10 for Guests \nRSVP: Emily.Pearson317@GMail.com
URL:https://hamiltoncountygop.org/event/northern-hamilton-county-gop-club-2/
LOCATION:Hamilton North Public Library\, 209 W Brinton St\, Cicero\, IN\, 46034\, United States
CATEGORIES:HAMCO
END:VEVENT
END:VCALENDAR