BEGIN:VCALENDAR
VERSION:2.0
PRODID:-//hamiltoncountygop - ECPv6.15.20//NONSGML v1.0//EN
CALSCALE:GREGORIAN
METHOD:PUBLISH
X-WR-CALNAME:hamiltoncountygop
X-ORIGINAL-URL:https://hamiltoncountygop.org
X-WR-CALDESC:Events for hamiltoncountygop
REFRESH-INTERVAL;VALUE=DURATION:PT1H
X-Robots-Tag:noindex
X-PUBLISHED-TTL:PT1H
BEGIN:VTIMEZONE
TZID:UTC
BEGIN:STANDARD
TZOFFSETFROM:+0000
TZOFFSETTO:+0000
TZNAME:UTC
DTSTART:20250101T000000
END:STANDARD
END:VTIMEZONE
BEGIN:VEVENT
DTSTART;TZID=UTC:20260223T180000
DTEND;TZID=UTC:20260223T200000
DTSTAMP:20260423T233647
CREATED:20260204T234442Z
LAST-MODIFIED:20260220T211706Z
UID:10000159-1771869600-1771876800@hamiltoncountygop.org
SUMMARY:DINNER WITH THE NORTHERN HAMILTON COUNTY GOP
DESCRIPTION:Come and meet our candidates for the Jackson Township Board and the Cicero Town Council at the \nNORTHERN HAMILTON COUNTY GOP CLUB DINNER MEETING \nMonday\, February 23 starting at 6:00 PM \nRed Bridge Park \n697 W. Jackson St. \nCicero\, IN \nFree for members and sponsors\, and $10 for guests. \nRSVP by February 21 to Emily.Pearson317@Gmail.com \n \n 
URL:https://hamiltoncountygop.org/event/dinner-with-the-northern-hamilton-county-gop/
LOCATION:Red Bridge Park\, 697 W. Jackson St.\, Cicero\, IN\, 46034\, United States
CATEGORIES:HAMCO
ATTACH;FMTTYPE=image/png:https://hamiltoncountygop.org/wp-content/uploads/2026/02/Copy-of-Northern-HamCo-GOP-Meeting-1-e1771604212674.png
END:VEVENT
END:VCALENDAR