BEGIN:VCALENDAR
VERSION:2.0
PRODID:-//hamiltoncountygop - ECPv6.15.20//NONSGML v1.0//EN
CALSCALE:GREGORIAN
METHOD:PUBLISH
X-WR-CALNAME:hamiltoncountygop
X-ORIGINAL-URL:https://hamiltoncountygop.org
X-WR-CALDESC:Events for hamiltoncountygop
REFRESH-INTERVAL;VALUE=DURATION:PT1H
X-Robots-Tag:noindex
X-PUBLISHED-TTL:PT1H
BEGIN:VTIMEZONE
TZID:UTC
BEGIN:STANDARD
TZOFFSETFROM:+0000
TZOFFSETTO:+0000
TZNAME:UTC
DTSTART:20250101T000000
END:STANDARD
END:VTIMEZONE
BEGIN:VEVENT
DTSTART;TZID=UTC:20260219T173000
DTEND;TZID=UTC:20260219T203000
DTSTAMP:20260423T233646
CREATED:20260202T225858Z
LAST-MODIFIED:20260202T225858Z
UID:10000154-1771522200-1771533000@hamiltoncountygop.org
SUMMARY:VICTORIA SPARTZ AT BAR LOUIE
DESCRIPTION:Come Hear the Lady and Learn. \n  \nCongresswoman Victoria Spartz \nIndiana’s 5th Congressional District
URL:https://hamiltoncountygop.org/event/victoria-spartz-at-bar-louie/
LOCATION:Bar Louie – Carmel\, 1111 W Main Street Suite 140\, Carmel\, IN\, 46032\, United States
CATEGORIES:HAMCO
ATTACH;FMTTYPE=image/jpeg:https://hamiltoncountygop.org/wp-content/uploads/2026/02/Spartz-February-Fundraiser-Save-the-Date-e1770055085759.jpeg
END:VEVENT
END:VCALENDAR