BEGIN:VCALENDAR
VERSION:2.0
PRODID:-//hamiltoncountygop - ECPv6.15.20//NONSGML v1.0//EN
CALSCALE:GREGORIAN
METHOD:PUBLISH
X-WR-CALNAME:hamiltoncountygop
X-ORIGINAL-URL:https://hamiltoncountygop.org
X-WR-CALDESC:Events for hamiltoncountygop
REFRESH-INTERVAL;VALUE=DURATION:PT1H
X-Robots-Tag:noindex
X-PUBLISHED-TTL:PT1H
BEGIN:VTIMEZONE
TZID:UTC
BEGIN:STANDARD
TZOFFSETFROM:+0000
TZOFFSETTO:+0000
TZNAME:UTC
DTSTART:20250101T000000
END:STANDARD
END:VTIMEZONE
BEGIN:VEVENT
DTSTART;TZID=UTC:20260205T170000
DTEND;TZID=UTC:20260205T190000
DTSTAMP:20260423T233646
CREATED:20260120T000056Z
LAST-MODIFIED:20260129T102250Z
UID:10000145-1770310800-1770318000@hamiltoncountygop.org
SUMMARY:TRAMPAS WHALIN FOR JUDGE
DESCRIPTION:
URL:https://hamiltoncountygop.org/event/trampas-whalin-for-judge/
LOCATION:Noblesville Elks Lodge\, 35 S. 9th Street\, Noblesville\, IN\, 46060\, United States
CATEGORIES:HAMCO
ATTACH;FMTTYPE=image/png:https://hamiltoncountygop.org/wp-content/uploads/2026/01/Trampas-Fundraiser-Feb26-1-e1768849194223.png
END:VEVENT
BEGIN:VEVENT
DTSTART;TZID=UTC:20260205T173000
DTEND;TZID=UTC:20260205T190000
DTSTAMP:20260423T233646
CREATED:20260123T225830Z
LAST-MODIFIED:20260129T102224Z
UID:10000146-1770312600-1770318000@hamiltoncountygop.org
SUMMARY:TIFFANIE DITLEVSON FOR INDIANA STATE SENATE
DESCRIPTION:
URL:https://hamiltoncountygop.org/event/tiffanie-ditlevson-for-indiana-state-senate/
LOCATION:The Hawthorns Golf and Country Club\, 12255Club Point Dr\, Fishers\, IN\, 46060\, United States
CATEGORIES:HAMCO
ATTACH;FMTTYPE=image/jpeg:https://hamiltoncountygop.org/wp-content/uploads/2026/01/Kick-Off-FR-Invite-1_page-0001-e1769191046238.jpg
END:VEVENT
BEGIN:VEVENT
DTSTART;TZID=UTC:20260205T173000
DTEND;TZID=UTC:20260205T193000
DTSTAMP:20260423T233646
CREATED:20260123T233503Z
LAST-MODIFIED:20260129T102151Z
UID:10000147-1770312600-1770319800@hamiltoncountygop.org
SUMMARY:CHADWICK HILL FOR JUDGE
DESCRIPTION:
URL:https://hamiltoncountygop.org/event/chadwick-hill-for-judge/
LOCATION:Becker Bouwkamp Walker PC\, 11100 USA Parkway\, Suite 3550\, Fishers\, IN\, 46037\, United States
CATEGORIES:HAMCO
ATTACH;FMTTYPE=image/png:https://hamiltoncountygop.org/wp-content/uploads/2026/01/Chadwick-Hill-2.5.26-e1769193224502.png
END:VEVENT
END:VCALENDAR